BEGIN:VCALENDAR
VERSION:2.0
PRODID:-//Pack 751 Richardson - ECPv6.15.20//NONSGML v1.0//EN
CALSCALE:GREGORIAN
METHOD:PUBLISH
X-WR-CALNAME:Pack 751 Richardson
X-ORIGINAL-URL:https://pack751richardson.com
X-WR-CALDESC:Events for Pack 751 Richardson
REFRESH-INTERVAL;VALUE=DURATION:PT1H
X-Robots-Tag:noindex
X-PUBLISHED-TTL:PT1H
BEGIN:VTIMEZONE
TZID:America/Chicago
BEGIN:DAYLIGHT
TZOFFSETFROM:-0600
TZOFFSETTO:-0500
TZNAME:CDT
DTSTART:20220313T080000
END:DAYLIGHT
BEGIN:STANDARD
TZOFFSETFROM:-0500
TZOFFSETTO:-0600
TZNAME:CST
DTSTART:20221106T070000
END:STANDARD
BEGIN:DAYLIGHT
TZOFFSETFROM:-0600
TZOFFSETTO:-0500
TZNAME:CDT
DTSTART:20230312T080000
END:DAYLIGHT
BEGIN:STANDARD
TZOFFSETFROM:-0500
TZOFFSETTO:-0600
TZNAME:CST
DTSTART:20231105T070000
END:STANDARD
BEGIN:DAYLIGHT
TZOFFSETFROM:-0600
TZOFFSETTO:-0500
TZNAME:CDT
DTSTART:20240310T080000
END:DAYLIGHT
BEGIN:STANDARD
TZOFFSETFROM:-0500
TZOFFSETTO:-0600
TZNAME:CST
DTSTART:20241103T070000
END:STANDARD
END:VTIMEZONE
BEGIN:VEVENT
DTSTART;TZID=America/Chicago:20231006T170000
DTEND;TZID=America/Chicago:20231008T170000
DTSTAMP:20260424T141802
CREATED:20230912T011623Z
LAST-MODIFIED:20230929T120406Z
UID:2563-1696611600-1696784400@pack751richardson.com
SUMMARY:AOL Troop Campout 1 (2023)
DESCRIPTION:Camping with T444. \nFrom the Troop… \nCamp with 444B over October 6-8 at Scout camp Trevor-Rees Jones in Athens\, TX. Our theme for this campout is Archery/Fishing/Scout Skills. This can be a great way for your scout and parents to get to know our troop while learning the Boy Scout ways. You can find more details at this link and register to attend ASAP if you are interested. Any Webelo or visiting youth that attends needs to have a parent come to camp with him. You can contribute $15/scout and $20/parent towards food costs but the troop will host you and take care of the meal planning/food shopping.\nhttps://my.cheddarup.com/c/t444/item/5176021?cart=4aaf9846-bd72-4971-95fa-960d00558ff9%21%2163414224
URL:https://pack751richardson.com/calendar-single-post-name/aol-planning-for-troop-campout-1-2023/
LOCATION:Arapaho United Methodist Church\, 1400 W Arapaho Rd\, Richardson\, 75080\, United States
END:VEVENT
END:VCALENDAR