BEGIN:VCALENDAR
VERSION:2.0
PRODID:-//Pack 751 Richardson - ECPv6.15.20//NONSGML v1.0//EN
CALSCALE:GREGORIAN
METHOD:PUBLISH
X-ORIGINAL-URL:https://pack751richardson.com
X-WR-CALDESC:Events for Pack 751 Richardson
REFRESH-INTERVAL;VALUE=DURATION:PT1H
X-Robots-Tag:noindex
X-PUBLISHED-TTL:PT1H
BEGIN:VTIMEZONE
TZID:America/Chicago
BEGIN:DAYLIGHT
TZOFFSETFROM:-0600
TZOFFSETTO:-0500
TZNAME:CDT
DTSTART:20220313T080000
END:DAYLIGHT
BEGIN:STANDARD
TZOFFSETFROM:-0500
TZOFFSETTO:-0600
TZNAME:CST
DTSTART:20221106T070000
END:STANDARD
BEGIN:DAYLIGHT
TZOFFSETFROM:-0600
TZOFFSETTO:-0500
TZNAME:CDT
DTSTART:20230312T080000
END:DAYLIGHT
BEGIN:STANDARD
TZOFFSETFROM:-0500
TZOFFSETTO:-0600
TZNAME:CST
DTSTART:20231105T070000
END:STANDARD
BEGIN:DAYLIGHT
TZOFFSETFROM:-0600
TZOFFSETTO:-0500
TZNAME:CDT
DTSTART:20240310T080000
END:DAYLIGHT
BEGIN:STANDARD
TZOFFSETFROM:-0500
TZOFFSETTO:-0600
TZNAME:CST
DTSTART:20241103T070000
END:STANDARD
END:VTIMEZONE
BEGIN:VEVENT
DTSTART;TZID=America/Chicago:20231008T140000
DTEND;TZID=America/Chicago:20231008T153000
DTSTAMP:20260424T154037
CREATED:20230817T143510Z
LAST-MODIFIED:20230821T161935Z
UID:2386-1696773600-1696779000@pack751richardson.com
SUMMARY:Tigers Den Meeting 3
DESCRIPTION:We’re meeting at the Heard Museum today with the Bears Den! Adventure: Tigers in the Wild / My Tiger Jungle (requirements) \nSee event link and map at https://pack751richardson.com/calendar-single-post-name/tigers-den-meeting-3/. \n 
URL:https://pack751richardson.com/calendar-single-post-name/tigers-den-meeting-3/
LOCATION:Heard Museum\, 1 Nature Place\, McKinney\, 75069\, United States
END:VEVENT
END:VCALENDAR