BEGIN:VCALENDAR
VERSION:2.0
PRODID:-//Pack 751 Richardson - ECPv6.15.20//NONSGML v1.0//EN
CALSCALE:GREGORIAN
METHOD:PUBLISH
X-ORIGINAL-URL:https://pack751richardson.com
X-WR-CALDESC:Events for Pack 751 Richardson
REFRESH-INTERVAL;VALUE=DURATION:PT1H
X-Robots-Tag:noindex
X-PUBLISHED-TTL:PT1H
BEGIN:VTIMEZONE
TZID:America/Chicago
BEGIN:DAYLIGHT
TZOFFSETFROM:-0600
TZOFFSETTO:-0500
TZNAME:CDT
DTSTART:20220313T080000
END:DAYLIGHT
BEGIN:STANDARD
TZOFFSETFROM:-0500
TZOFFSETTO:-0600
TZNAME:CST
DTSTART:20221106T070000
END:STANDARD
BEGIN:DAYLIGHT
TZOFFSETFROM:-0600
TZOFFSETTO:-0500
TZNAME:CDT
DTSTART:20230312T080000
END:DAYLIGHT
BEGIN:STANDARD
TZOFFSETFROM:-0500
TZOFFSETTO:-0600
TZNAME:CST
DTSTART:20231105T070000
END:STANDARD
BEGIN:DAYLIGHT
TZOFFSETFROM:-0600
TZOFFSETTO:-0500
TZNAME:CDT
DTSTART:20240310T080000
END:DAYLIGHT
BEGIN:STANDARD
TZOFFSETFROM:-0500
TZOFFSETTO:-0600
TZNAME:CST
DTSTART:20241103T070000
END:STANDARD
END:VTIMEZONE
BEGIN:VEVENT
DTSTART;TZID=America/Chicago:20231017T190000
DTEND;TZID=America/Chicago:20231017T200000
DTSTAMP:20260424T112736
CREATED:20230801T051911Z
LAST-MODIFIED:20231013T154034Z
UID:1802-1697569200-1697572800@pack751richardson.com
SUMMARY:October Parent Committee Meeting (Google Meets)
DESCRIPTION:October Parent Committee Meeting\nTuesday\, October 17 · 7:00 – 8:00pm\nTime zone: America/Chicago\nGoogle Meet joining info\nVideo call link: https://meet.google.com/txq-kozh-seh \n  \nAgenda \nhttps://docs.google.com/document/d/1e-rmOtBRLOVF1Om06hRZQ8eR2ZuQZ8pR/edit?usp=sharing&ouid=110019863462363225847&rtpof=true&sd=true
URL:https://pack751richardson.com/calendar-single-post-name/october-parent-committee-meeting-zoom/
END:VEVENT
END:VCALENDAR