BEGIN:VCALENDAR
VERSION:2.0
PRODID:-//Pack 751 Richardson - ECPv6.15.20//NONSGML v1.0//EN
CALSCALE:GREGORIAN
METHOD:PUBLISH
X-WR-CALNAME:Pack 751 Richardson
X-ORIGINAL-URL:https://pack751richardson.com
X-WR-CALDESC:Events for Pack 751 Richardson
REFRESH-INTERVAL;VALUE=DURATION:PT1H
X-Robots-Tag:noindex
X-PUBLISHED-TTL:PT1H
BEGIN:VTIMEZONE
TZID:America/Chicago
BEGIN:DAYLIGHT
TZOFFSETFROM:-0600
TZOFFSETTO:-0500
TZNAME:CDT
DTSTART:20220313T080000
END:DAYLIGHT
BEGIN:STANDARD
TZOFFSETFROM:-0500
TZOFFSETTO:-0600
TZNAME:CST
DTSTART:20221106T070000
END:STANDARD
BEGIN:DAYLIGHT
TZOFFSETFROM:-0600
TZOFFSETTO:-0500
TZNAME:CDT
DTSTART:20230312T080000
END:DAYLIGHT
BEGIN:STANDARD
TZOFFSETFROM:-0500
TZOFFSETTO:-0600
TZNAME:CST
DTSTART:20231105T070000
END:STANDARD
BEGIN:DAYLIGHT
TZOFFSETFROM:-0600
TZOFFSETTO:-0500
TZNAME:CDT
DTSTART:20240310T080000
END:DAYLIGHT
BEGIN:STANDARD
TZOFFSETFROM:-0500
TZOFFSETTO:-0600
TZNAME:CST
DTSTART:20241103T070000
END:STANDARD
END:VTIMEZONE
BEGIN:VEVENT
DTSTART;TZID=America/Chicago:20230921T180000
DTEND;TZID=America/Chicago:20230921T184500
DTSTAMP:20260424T161923
CREATED:20230805T233208Z
LAST-MODIFIED:20230824T203618Z
UID:1905-1695319200-1695321900@pack751richardson.com
SUMMARY:Bears Den Meeting 2
DESCRIPTION:We’re meeting at the Richardson Police Dept. to work on Paws for Action (Duty to Country) adventure\, requirement 3a & 3b. Scouts should bring 3 questions to ask the police officer that will help them learn how to stay safe.
URL:https://pack751richardson.com/calendar-single-post-name/bears-den-meeting-2/
LOCATION:Richardson PD\, 200 N Greenville Ave.\, Richardson\, TX\, 75081
ORGANIZER;CN="Den 3 Bears":MAILTO:lashafer@gmail.com
END:VEVENT
END:VCALENDAR