BEGIN:VCALENDAR
VERSION:2.0
PRODID:-//Pack 751 Richardson - ECPv6.15.20//NONSGML v1.0//EN
CALSCALE:GREGORIAN
METHOD:PUBLISH
X-WR-CALNAME:Pack 751 Richardson
X-ORIGINAL-URL:https://pack751richardson.com
X-WR-CALDESC:Events for Pack 751 Richardson
REFRESH-INTERVAL;VALUE=DURATION:PT1H
X-Robots-Tag:noindex
X-PUBLISHED-TTL:PT1H
BEGIN:VTIMEZONE
TZID:America/Chicago
BEGIN:DAYLIGHT
TZOFFSETFROM:-0600
TZOFFSETTO:-0500
TZNAME:CDT
DTSTART:20240310T080000
END:DAYLIGHT
BEGIN:STANDARD
TZOFFSETFROM:-0500
TZOFFSETTO:-0600
TZNAME:CST
DTSTART:20241103T070000
END:STANDARD
BEGIN:DAYLIGHT
TZOFFSETFROM:-0600
TZOFFSETTO:-0500
TZNAME:CDT
DTSTART:20250309T080000
END:DAYLIGHT
BEGIN:STANDARD
TZOFFSETFROM:-0500
TZOFFSETTO:-0600
TZNAME:CST
DTSTART:20251102T070000
END:STANDARD
BEGIN:DAYLIGHT
TZOFFSETFROM:-0600
TZOFFSETTO:-0500
TZNAME:CDT
DTSTART:20260308T080000
END:DAYLIGHT
BEGIN:STANDARD
TZOFFSETFROM:-0500
TZOFFSETTO:-0600
TZNAME:CST
DTSTART:20261101T070000
END:STANDARD
END:VTIMEZONE
BEGIN:VEVENT
DTSTART;TZID=America/Chicago:20251116T160000
DTEND;TZID=America/Chicago:20251116T170000
DTSTAMP:20260422T220636
CREATED:20250820T213840Z
LAST-MODIFIED:20251020T194911Z
UID:3264-1763308800-1763312400@pack751richardson.com
SUMMARY:AOL Meeting 6
DESCRIPTION:We will be completing the AOL First Aid Adventure with EMT Adam Umphenour.
URL:https://pack751richardson.com/calendar-single-post-name/aol-meeting-6/
LOCATION:Glaser House\, 1435 Lamp Post Lane\, Richardson\, 75080\, United States
END:VEVENT
END:VCALENDAR