BEGIN:VCALENDAR
VERSION:2.0
PRODID:-//Pack 751 Richardson - ECPv6.15.20//NONSGML v1.0//EN
CALSCALE:GREGORIAN
METHOD:PUBLISH
X-ORIGINAL-URL:https://pack751richardson.com
X-WR-CALDESC:Events for Pack 751 Richardson
REFRESH-INTERVAL;VALUE=DURATION:PT1H
X-Robots-Tag:noindex
X-PUBLISHED-TTL:PT1H
BEGIN:VTIMEZONE
TZID:America/Chicago
BEGIN:DAYLIGHT
TZOFFSETFROM:-0600
TZOFFSETTO:-0500
TZNAME:CDT
DTSTART:20250309T080000
END:DAYLIGHT
BEGIN:STANDARD
TZOFFSETFROM:-0500
TZOFFSETTO:-0600
TZNAME:CST
DTSTART:20251102T070000
END:STANDARD
BEGIN:DAYLIGHT
TZOFFSETFROM:-0600
TZOFFSETTO:-0500
TZNAME:CDT
DTSTART:20260308T080000
END:DAYLIGHT
BEGIN:STANDARD
TZOFFSETFROM:-0500
TZOFFSETTO:-0600
TZNAME:CST
DTSTART:20261101T070000
END:STANDARD
BEGIN:DAYLIGHT
TZOFFSETFROM:-0600
TZOFFSETTO:-0500
TZNAME:CDT
DTSTART:20270314T080000
END:DAYLIGHT
BEGIN:STANDARD
TZOFFSETFROM:-0500
TZOFFSETTO:-0600
TZNAME:CST
DTSTART:20271107T070000
END:STANDARD
END:VTIMEZONE
BEGIN:VEVENT
DTSTART;TZID=America/Chicago:20260104T160000
DTEND;TZID=America/Chicago:20260104T170000
DTSTAMP:20260422T170733
CREATED:20251007T025331Z
LAST-MODIFIED:20251007T025331Z
UID:3378-1767542400-1767546000@pack751richardson.com
SUMMARY:AOL Meeting 8
DESCRIPTION:More info coming soon.
URL:https://pack751richardson.com/calendar-single-post-name/aol-meeting-8/
LOCATION:Northrich Park\, 525 Malden Dr.\, Richardson\, TX\, 75080
END:VEVENT
BEGIN:VEVENT
DTSTART;TZID=America/Chicago:20260118T160000
DTEND;TZID=America/Chicago:20260118T170000
DTSTAMP:20260422T170733
CREATED:20250820T213628Z
LAST-MODIFIED:20260114T220654Z
UID:3262-1768752000-1768755600@pack751richardson.com
SUMMARY:AOL Meeting 9
DESCRIPTION:We will work on adventure requirements that we need as we get closer to our AOL crossover ceremony.
URL:https://pack751richardson.com/calendar-single-post-name/aol-meeting-9/
LOCATION:Glaser House\, 1435 Lamp Post Lane\, Richardson\, 75080\, United States
END:VEVENT
END:VCALENDAR