BEGIN:VCALENDAR
VERSION:2.0
PRODID:-//Pack 751 Richardson - ECPv6.15.20//NONSGML v1.0//EN
CALSCALE:GREGORIAN
METHOD:PUBLISH
X-ORIGINAL-URL:https://pack751richardson.com
X-WR-CALDESC:Events for Pack 751 Richardson
REFRESH-INTERVAL;VALUE=DURATION:PT1H
X-Robots-Tag:noindex
X-PUBLISHED-TTL:PT1H
BEGIN:VTIMEZONE
TZID:America/Chicago
BEGIN:DAYLIGHT
TZOFFSETFROM:-0600
TZOFFSETTO:-0500
TZNAME:CDT
DTSTART:20250309T080000
END:DAYLIGHT
BEGIN:STANDARD
TZOFFSETFROM:-0500
TZOFFSETTO:-0600
TZNAME:CST
DTSTART:20251102T070000
END:STANDARD
BEGIN:DAYLIGHT
TZOFFSETFROM:-0600
TZOFFSETTO:-0500
TZNAME:CDT
DTSTART:20260308T080000
END:DAYLIGHT
BEGIN:STANDARD
TZOFFSETFROM:-0500
TZOFFSETTO:-0600
TZNAME:CST
DTSTART:20261101T070000
END:STANDARD
BEGIN:DAYLIGHT
TZOFFSETFROM:-0600
TZOFFSETTO:-0500
TZNAME:CDT
DTSTART:20270314T080000
END:DAYLIGHT
BEGIN:STANDARD
TZOFFSETFROM:-0500
TZOFFSETTO:-0600
TZNAME:CST
DTSTART:20271107T070000
END:STANDARD
END:VTIMEZONE
BEGIN:VEVENT
DTSTART;TZID=America/Chicago:20260210T190000
DTEND;TZID=America/Chicago:20260210T200000
DTSTAMP:20260422T094435
CREATED:20251229T045723Z
LAST-MODIFIED:20251229T045723Z
UID:3465-1770750000-1770753600@pack751richardson.com
SUMMARY:Parent Committee Meeting (In Person)
DESCRIPTION:Parent Committee meetings should be attended by all parents that can make it\, especially if you are serving in any volunteer capacity.
URL:https://pack751richardson.com/calendar-single-post-name/parent-committee-meeting-in-person-3/
LOCATION:FUMCR Ed-Room 217B\, 503 N Central Exp\, Richardson\, TX\, 75080\, United States
END:VEVENT
BEGIN:VEVENT
DTSTART;TZID=America/Chicago:20260212T190000
DTEND;TZID=America/Chicago:20260212T200000
DTSTAMP:20260422T094435
CREATED:20251229T041859Z
LAST-MODIFIED:20251229T041859Z
UID:3446-1770922800-1770926400@pack751richardson.com
SUMMARY:Northern Trail District Roundtable
DESCRIPTION:
URL:https://pack751richardson.com/calendar-single-post-name/northern-trail-district-roundtable-6/
LOCATION:FUMCR Ed-Room 225\, 503 N Central Expy\, Richardson\, 75080\, United States
END:VEVENT
BEGIN:VEVENT
DTSTART;TZID=America/Chicago:20260215T140000
DTEND;TZID=America/Chicago:20260215T150000
DTSTAMP:20260422T094435
CREATED:20251229T040244Z
LAST-MODIFIED:20251229T040244Z
UID:3436-1771164000-1771167600@pack751richardson.com
SUMMARY:Bear's Den Meeting
DESCRIPTION:
URL:https://pack751richardson.com/calendar-single-post-name/bears-den-meeting-18/
LOCATION:Northrich Park\, 525 Malden Dr.\, Richardson\, TX\, 75080
END:VEVENT
BEGIN:VEVENT
DTSTART;TZID=America/Chicago:20260227T180000
DTEND;TZID=America/Chicago:20260227T203000
DTSTAMP:20260422T094435
CREATED:20260114T220947Z
LAST-MODIFIED:20260211T011249Z
UID:3483-1772215200-1772224200@pack751richardson.com
SUMMARY:AOL Crossover Ceremony & Pack Meeting 2026
DESCRIPTION:More info TBD
URL:https://pack751richardson.com/calendar-single-post-name/aol-crossover-ceremony-pack-meeting-2026/
LOCATION:Episcopal Church of the Epiphany\, 421 Custer Road\, Richardson\, Texas\, 75080
END:VEVENT
END:VCALENDAR