BEGIN:VCALENDAR
VERSION:2.0
PRODID:-//Pack 751 Richardson - ECPv6.15.20//NONSGML v1.0//EN
CALSCALE:GREGORIAN
METHOD:PUBLISH
X-WR-CALNAME:Pack 751 Richardson
X-ORIGINAL-URL:https://pack751richardson.com
X-WR-CALDESC:Events for Pack 751 Richardson
REFRESH-INTERVAL;VALUE=DURATION:PT1H
X-Robots-Tag:noindex
X-PUBLISHED-TTL:PT1H
BEGIN:VTIMEZONE
TZID:America/Chicago
BEGIN:DAYLIGHT
TZOFFSETFROM:-0600
TZOFFSETTO:-0500
TZNAME:CDT
DTSTART:20240310T080000
END:DAYLIGHT
BEGIN:STANDARD
TZOFFSETFROM:-0500
TZOFFSETTO:-0600
TZNAME:CST
DTSTART:20241103T070000
END:STANDARD
BEGIN:DAYLIGHT
TZOFFSETFROM:-0600
TZOFFSETTO:-0500
TZNAME:CDT
DTSTART:20250309T080000
END:DAYLIGHT
BEGIN:STANDARD
TZOFFSETFROM:-0500
TZOFFSETTO:-0600
TZNAME:CST
DTSTART:20251102T070000
END:STANDARD
BEGIN:DAYLIGHT
TZOFFSETFROM:-0600
TZOFFSETTO:-0500
TZNAME:CDT
DTSTART:20260308T080000
END:DAYLIGHT
BEGIN:STANDARD
TZOFFSETFROM:-0500
TZOFFSETTO:-0600
TZNAME:CST
DTSTART:20261101T070000
END:STANDARD
END:VTIMEZONE
BEGIN:VEVENT
DTSTART;TZID=America/Chicago:20250920T100000
DTEND;TZID=America/Chicago:20250920T120000
DTSTAMP:20260422T180502
CREATED:20250810T184808Z
LAST-MODIFIED:20250810T184808Z
UID:3216-1758362400-1758369600@pack751richardson.com
SUMMARY:Richardson Public Safety Expo
DESCRIPTION:Come out for a day of learning and fun revolving around Richardsons civic organizations.  Dens will organize their own meeting locations/times and enjoy the morning together.  Below is the description of the event from the City of Richardson: \n  \nOur annual Public Safety Expo will return on Saturday\, September 20\, from 10 a.m. until Noon. Join the Richardson Police Department for a fantastic family event! Experience a day filled with excitement and education as we showcase police and fire department vehicles\, with engaging demonstrations from our K9 Unit and UAS (drone) Team. You can meet SWAT Team members\, interact with Bike Unit officers\, and get an up-close look at a helicopter. \nExplore booths from various vendors and City services offering valuable information on safety and emergency preparedness. Don’t miss the chance to meet special guests such as Chase from Paw Patrol\, Nat the National Night Out Knight and McGruff the Crime Dog. \nRefreshments will be available for purchase\, ensuring a fun-filled day for everyone. Mark your calendar for this free event—it’s sure to be a memorable outing for the whole family!
URL:https://pack751richardson.com/calendar-single-post-name/richardson-public-safety-expo/
LOCATION:Huffhines Park\, 300 N Plano Rd.\, Richardson\, TX\, 75081\, United States
END:VEVENT
BEGIN:VEVENT
DTSTART;VALUE=DATE:20250920
DTEND;VALUE=DATE:20250921
DTSTAMP:20260422T180502
CREATED:20250830T220612Z
LAST-MODIFIED:20250901T225741Z
UID:3302-1758326400-1758412799@pack751richardson.com
SUMMARY:Popcorn Sales Storefront Slots available 10am–6pm
DESCRIPTION:Popcorn Sales \nPack 751 Richardson participates in popcorn sales for some great reasons. It’s a major fundraiser that earns money for fun Pack activities\, like Pinewood Derby. \nPopcorn sales are also a great way to teach our boys and girls important life skills. Succeeding takes organization\, time management\, self-confidence\, math\, goal-setting\, and persuasive skills\, to name a few! While it is voluntary\, we encourage each scout to sign up for at least 2 hours of their time during our pre-selected storefront timeslots at local retailers. \n  \nSelling Popcorn Is Fun \nIn 2023\, Pack 751 Richardson popcorn sales kick off in late August and go through October. Scouts can sell popcorn through storefront shifts\, door-to-door wagon sales\, or online. \nTo participate\, create an account at Trail’s End\, our fundraising partner. In Trail’s End\, Scouts and parents can set sales goals\, sign up for storefront shifts\, share links to buy\, track sales and deliveries\, send thank you emails\, and more. \nScouts earn points towards an Amazon or other gift cards when they record their sales in the Trail’s End App. They choose the prize they want and points add up fast. \nWe will have a kick-off discussion at our Pack social on September 19th. \n 
URL:https://pack751richardson.com/calendar-single-post-name/popcorn-sales-storefront-slots-available-6/
LOCATION:Kroger’s –  160 N. Coit Rd.\, 160 N. Coit Rd.\, Richardson\, 75080\, United States
END:VEVENT
BEGIN:VEVENT
DTSTART;VALUE=DATE:20250920
DTEND;VALUE=DATE:20250921
DTSTAMP:20260422T180502
CREATED:20250830T220116Z
LAST-MODIFIED:20250901T225542Z
UID:3296-1758326400-1758412799@pack751richardson.com
SUMMARY:Popcorn Sales Storefront Slots available 10am–6pm
DESCRIPTION:Popcorn Sales \nPack 751 Richardson participates in popcorn sales for some great reasons. It’s a major fundraiser that earns money for fun Pack activities\, like Pinewood Derby. \nPopcorn sales are also a great way to teach our boys and girls important life skills. Succeeding takes organization\, time management\, self-confidence\, math\, goal-setting\, and persuasive skills\, to name a few! While it is voluntary\, we encourage each scout to sign up for at least 2 hours of their time during our pre-selected storefront timeslots at local retailers. \n  \nSelling Popcorn Is Fun \nIn 2023\, Pack 751 Richardson popcorn sales kick off in late August and go through October. Scouts can sell popcorn through storefront shifts\, door-to-door wagon sales\, or online. \nTo participate\, create an account at Trail’s End\, our fundraising partner. In Trail’s End\, Scouts and parents can set sales goals\, sign up for storefront shifts\, share links to buy\, track sales and deliveries\, send thank you emails\, and more. \nScouts earn points towards an Amazon or other gift cards when they record their sales in the Trail’s End App. They choose the prize they want and points add up fast. \nWe will have a kick-off discussion at our Pack social on September 19th. \n 
URL:https://pack751richardson.com/calendar-single-post-name/popcorn-sales-storefront-slots-available-3/
LOCATION:Kroger’s –  536 Centennial Blvd\, 536 Centennial Blvd\, Richardson\, TX\, 75081\, United States
END:VEVENT
BEGIN:VEVENT
DTSTART;TZID=America/Chicago:20250919T180000
DTEND;TZID=America/Chicago:20250919T200000
DTSTAMP:20260422T180502
CREATED:20250810T184405Z
LAST-MODIFIED:20250915T000411Z
UID:3214-1758304800-1758312000@pack751richardson.com
SUMMARY:Pack Social Family Night
DESCRIPTION:All new\, returning\, and families that are interested in Pack 751 are invited for a pot luck style feat and fellowship at Heights park.  Please be sure to bring your own reusable cup/water bottle and a camp chair.
URL:https://pack751richardson.com/calendar-single-post-name/pack-social-family-night-2/
LOCATION:Huffhines Park\, 300 N Plano Rd.\, Richardson\, TX\, 75081\, United States
END:VEVENT
BEGIN:VEVENT
DTSTART;TZID=America/Chicago:20250916T190000
DTEND;TZID=America/Chicago:20250916T200000
DTSTAMP:20260422T180502
CREATED:20250810T181646Z
LAST-MODIFIED:20250916T012701Z
UID:3210-1758049200-1758052800@pack751richardson.com
SUMMARY:Parent Committee Meeting (In Person)
DESCRIPTION:Parent Committee meetings should be attended by all parents that can make it\, especially if you are serving in any volunteer capacity.  This will be in FUMCR room 217B
URL:https://pack751richardson.com/calendar-single-post-name/parent-committee-meeting-in-person/
LOCATION:FUMCR Ed-Room 217B\, 503 N Central Exp\, Richardson\, TX\, 75080\, United States
END:VEVENT
BEGIN:VEVENT
DTSTART;VALUE=DATE:20250914
DTEND;VALUE=DATE:20250915
DTSTAMP:20260422T180502
CREATED:20250830T220022Z
LAST-MODIFIED:20250901T225502Z
UID:3294-1757808000-1757894399@pack751richardson.com
SUMMARY:Popcorn Sales Storefront Slots available 10am–6pm
DESCRIPTION:Popcorn Sales \nPack 751 Richardson participates in popcorn sales for some great reasons. It’s a major fundraiser that earns money for fun Pack activities\, like Pinewood Derby. \nPopcorn sales are also a great way to teach our boys and girls important life skills. Succeeding takes organization\, time management\, self-confidence\, math\, goal-setting\, and persuasive skills\, to name a few! While it is voluntary\, we encourage each scout to sign up for at least 2 hours of their time during our pre-selected storefront timeslots at local retailers. \n  \nSelling Popcorn Is Fun \nIn 2023\, Pack 751 Richardson popcorn sales kick off in late August and go through October. Scouts can sell popcorn through storefront shifts\, door-to-door wagon sales\, or online. \nTo participate\, create an account at Trail’s End\, our fundraising partner. In Trail’s End\, Scouts and parents can set sales goals\, sign up for storefront shifts\, share links to buy\, track sales and deliveries\, send thank you emails\, and more. \nScouts earn points towards an Amazon or other gift cards when they record their sales in the Trail’s End App. They choose the prize they want and points add up fast. \nWe will have a kick-off discussion at our Pack social on September 19th. \n 
URL:https://pack751richardson.com/calendar-single-post-name/popcorn-sales-storefront-slots-available-2/
LOCATION:Kroger’s –  536 Centennial Blvd\, 536 Centennial Blvd\, Richardson\, TX\, 75081\, United States
END:VEVENT
BEGIN:VEVENT
DTSTART;VALUE=DATE:20250913
DTEND;VALUE=DATE:20250915
DTSTAMP:20260422T180502
CREATED:20250826T143029Z
LAST-MODIFIED:20250826T143029Z
UID:3271-1757721600-1757894399@pack751richardson.com
SUMMARY:BALOO and IOLS Training
DESCRIPTION:Northern Trail along with Rising Sun and Soaring Eagle Districts training team is gearing up to help you get more outing in Scouting! You can take either Introduction to Outdoor Leadership Skils (IOLS)\, which is needed for a Scouts BSA leader\, or Basic Adult Leader Outdoor Orientation (BALOO)\, which is needed by a Cub Scout leader.\nNOTE: Even though both trainings are at the same time and location\, you will have to choose which course you are taking and will only get a training card for the course you sign up for. This is NOT a course designed to give you credit for both course as that would be against Scouting America policy. \nBALOO\nBasic Adult Leader Outdoor Orientation \nBALOO is a required training for a Pack to do overnight camping\, designed for registered leaders over 21\, but other adults can attend.  Each Pack must have one BALOO-trained leader; more is better.  In BALOO Course you’ll have fun learning Foil Cooking\, Fun and Cheerful Games\, First Aid\, Geo Chaching\, Camping\, Scouts Own\, Dignified Flag Retirement\, Camp Fire and much more. This Course embodies the spirit of fun\, forging friendships\, building fellowship\, camaraderie\, and expanding your network of resources\, and\, most importantly\, learning how to make Cub Scouting Outdoor activities much more fun! Come join us! \nIOLS\nIntroduction to Outdoor Leadership Skills \nIOLS is required for all direct contact leaders (Scoutmasters and Assistant Scoutmasters) in Scouts BSA Troops to be considered a TRAINED LEADER. It is also beneficial to committee chairs and troop members as it provides a better understanding of Scout BSA’s outdoor program. Aside from covering some basic camping and outdoor information\, this training covers an experiential learning of the Patrol method used by Scouts BSA troops. Scoutmasters and Assistant Scoutmasters will need to have completed the Scoutmaster Position Specific Training modules and be current for Youth Protection Training to receive a TRAINED patch at the end of the course. These online trainings can be found at my.scouting.org. \nEvent Details \n\nLocation: Camp Wisdom\, 6400 W Red Bird Ln\, Dallas\, TX 75236\nDate: BALOO: Saturday\, September 13th to Sunday\, September 14th.\n\nCheck-in: Saturday\, September 13th – 7:00 a.m. – 7:30 a.m.\n\n\nDate: IOLS: Saturday\, September 13th to Sunday\, September 14th.\n\nCheck-in: Saturday\, September 13th – 6:30 a.m. – 7:00 a.m.\n\n\nRegistration Closes: Sunday\, September 5 at 11:00 p.m\nThis is the deadline to add\, update/change registrations\, and complete payment\nCancellation: All cancellations must follow the Circle Ten Council Cancellation & Refund Policy.\n\nCost \nThe cost of the course includes a Friday night cracker barrel\, Saturday breakfast and lunch\, and plenty of snacks to get you through the day. A participant packing list will go out after registration but plan on bringing your own tent\, sleeping gear\, a mess kit\, reusable water bottle\, flashlight/headlight\, sun protection\, rain gear\, a pocket knife\, and personal first aid kit (can be homemade). We wil have fresh water\, meals and snacks\, and a great training course ready for you. \n\nBALOO Participants: $40.00 per adult participant\nIOLs Participants: $40.00 per adult participants\nRegistration Fee includes course materials\, Friday night cracker barrel\, Saturday breakfast and lunch.\n\nPrerequisites \nYou will need to do pre-course work in my.scouting.org for either IOLS or BALOO\, need to have your position training (Scoutmaster\, Assistant Scoutmaster\, Cubmaster\, Den Leader\,  or Committee Chair) and have current Youth Protection Training to earn your coveted “Trained” patch. Go to my.scouting.org to find Scoutmaster Postition-Specific\, Cubmaster Position-Specific\, and Youth Protection Training. \nContacts \n\nProgram Executive: Ryan Downey\, ryan.downey@scouting.org\nRegistration Assistance: Daniel Murphy\, daniel.murphy@scouting.org\n\nAttendees will need to be prepared to camp (rain or shine).  A packing list is available upon request.
URL:https://pack751richardson.com/calendar-single-post-name/baloo-and-iols-training-3/
LOCATION:Camp Wisdom\, 6400 W Red Bird Ln.\, Dallas\, TX\, 75236\, United States
END:VEVENT
BEGIN:VEVENT
DTSTART;VALUE=DATE:20250913
DTEND;VALUE=DATE:20250914
DTSTAMP:20260422T180502
CREATED:20250830T215853Z
LAST-MODIFIED:20250901T225352Z
UID:3291-1757721600-1757807999@pack751richardson.com
SUMMARY:Popcorn Sales Storefront Slots available 10am–6pm
DESCRIPTION:Popcorn Sales \nPack 751 Richardson participates in popcorn sales for some great reasons. It’s a major fundraiser that earns money for fun Pack activities\, like Pinewood Derby. \nPopcorn sales are also a great way to teach our boys and girls important life skills. Succeeding takes organization\, time management\, self-confidence\, math\, goal-setting\, and persuasive skills\, to name a few! While it is voluntary\, we encourage each scout to sign up for at least 2 hours of their time during our pre-selected storefront timeslots at local retailers. \n  \nSelling Popcorn Is Fun \nIn 2023\, Pack 751 Richardson popcorn sales kick off in late August and go through October. Scouts can sell popcorn through storefront shifts\, door-to-door wagon sales\, or online. \nTo participate\, create an account at Trail’s End\, our fundraising partner. In Trail’s End\, Scouts and parents can set sales goals\, sign up for storefront shifts\, share links to buy\, track sales and deliveries\, send thank you emails\, and more. \nScouts earn points towards an Amazon or other gift cards when they record their sales in the Trail’s End App. They choose the prize they want and points add up fast. \nWe will have a kick-off discussion at our Pack social on September 19th. \n 
URL:https://pack751richardson.com/calendar-single-post-name/popcorn-sales-storefront-slots-available/
LOCATION:Kroger’s –  536 Centennial Blvd\, 536 Centennial Blvd\, Richardson\, TX\, 75081\, United States
END:VEVENT
BEGIN:VEVENT
DTSTART;TZID=America/Chicago:20250911T190000
DTEND;TZID=America/Chicago:20250911T200000
DTSTAMP:20260422T180502
CREATED:20250810T175551Z
LAST-MODIFIED:20250810T175551Z
UID:3206-1757617200-1757620800@pack751richardson.com
SUMMARY:Northern Trail District Roundtable
DESCRIPTION:
URL:https://pack751richardson.com/calendar-single-post-name/northern-trail-district-roundtable-2/
LOCATION:FUMCR Ed-Room 225\, 503 N Central Expy\, Richardson\, 75080\, United States
END:VEVENT
BEGIN:VEVENT
DTSTART;TZID=America/Chicago:20250910T190000
DTEND;TZID=America/Chicago:20250910T200000
DTSTAMP:20260422T180502
CREATED:20250810T175138Z
LAST-MODIFIED:20250810T175138Z
UID:3200-1757530800-1757534400@pack751richardson.com
SUMMARY:School Night for Scouting @ Heights
DESCRIPTION:
URL:https://pack751richardson.com/calendar-single-post-name/school-night-for-scouting-heights/
LOCATION:Heights Elementary\, 101 N Floyd Rd\, Richardson\, TX\, 75080\, United States
END:VEVENT
BEGIN:VEVENT
DTSTART;TZID=America/Chicago:20250907T160000
DTEND;TZID=America/Chicago:20250907T170000
DTSTAMP:20260422T180502
CREATED:20250820T211550Z
LAST-MODIFIED:20250901T232423Z
UID:3251-1757260800-1757264400@pack751richardson.com
SUMMARY:AOL Meeting 2
DESCRIPTION:We will work on the Personal Fitness Adventure.
URL:https://pack751richardson.com/calendar-single-post-name/aol-meeting-2/
LOCATION:Northrich Park\, 525 Malden Dr.\, Richardson\, TX\, 75080
END:VEVENT
BEGIN:VEVENT
DTSTART;TZID=America/Chicago:20250827T190000
DTEND;TZID=America/Chicago:20250827T200000
DTSTAMP:20260422T180502
CREATED:20250810T181145Z
LAST-MODIFIED:20250810T181730Z
UID:3208-1756321200-1756324800@pack751richardson.com
SUMMARY:Parent Committee Meeting via Zoom
DESCRIPTION:Parent Committee meetings should be attended by all parents that can make it\, especially if you are serving in any volunteer capacity.
URL:https://pack751richardson.com/calendar-single-post-name/parent-committee-meeting-via-zoom/
END:VEVENT
BEGIN:VEVENT
DTSTART;TZID=America/Chicago:20250826T190000
DTEND;TZID=America/Chicago:20250826T200000
DTSTAMP:20260422T180502
CREATED:20250810T174140Z
LAST-MODIFIED:20250810T174140Z
UID:3195-1756234800-1756238400@pack751richardson.com
SUMMARY:School Night for Scouting @ Arapaho Magnet
DESCRIPTION:
URL:https://pack751richardson.com/calendar-single-post-name/school-night-for-scouting-arapaho-magnet/
LOCATION:Arapaho Classical Magnet\, 1300 Cypress Dr.\, Richardson\, TX\, 75080\, United States
END:VEVENT
BEGIN:VEVENT
DTSTART;TZID=America/Chicago:20250824T160000
DTEND;TZID=America/Chicago:20250824T170000
DTSTAMP:20260422T180502
CREATED:20250820T210932Z
LAST-MODIFIED:20250820T211027Z
UID:3248-1756051200-1756054800@pack751richardson.com
SUMMARY:AOL Meeting 1
DESCRIPTION:We will work on the Character & Leadership adventure. Please have Requirement No. 8 done beforehand the meeting.
URL:https://pack751richardson.com/calendar-single-post-name/aol-meeting-1/
LOCATION:Northrich Park\, 525 Malden Dr.\, Richardson\, TX\, 75080
END:VEVENT
BEGIN:VEVENT
DTSTART;VALUE=DATE:20250816
DTEND;VALUE=DATE:20250817
DTSTAMP:20260422T180502
CREATED:20250810T171912Z
LAST-MODIFIED:20250810T171912Z
UID:3193-1755302400-1755388799@pack751richardson.com
SUMMARY:Popcorn Sales begin
DESCRIPTION:(online sales as well)
URL:https://pack751richardson.com/calendar-single-post-name/popcorn-sales-begin/
END:VEVENT
BEGIN:VEVENT
DTSTART;TZID=America/Chicago:20250814T190000
DTEND;TZID=America/Chicago:20250814T200000
DTSTAMP:20260422T180502
CREATED:20250810T171530Z
LAST-MODIFIED:20250810T171530Z
UID:3190-1755198000-1755201600@pack751richardson.com
SUMMARY:Northern Trail District Roundtable
DESCRIPTION:
URL:https://pack751richardson.com/calendar-single-post-name/northern-trail-district-roundtable/
LOCATION:FUMCR Ed-Room 225\, 503 N Central Expy\, Richardson\, 75080\, United States
END:VEVENT
BEGIN:VEVENT
DTSTART;TZID=America/Chicago:20250525T140000
DTEND;TZID=America/Chicago:20250525T170000
DTSTAMP:20260422T180502
CREATED:20250331T170237Z
LAST-MODIFIED:20250514T203746Z
UID:3170-1748181600-1748192400@pack751richardson.com
SUMMARY:Webelos End-of-Year Party!
DESCRIPTION:We’re having a pool party to celebrate the end of the year! Please see GroupMe for info – it’s at Molly Mettauer’s house.
URL:https://pack751richardson.com/calendar-single-post-name/webelos-end-of-year-party/
LOCATION:Mettauer House\, 7216 Arbor Oaks Dr.\, Dallas\, TX\, 75248\, United States
END:VEVENT
BEGIN:VEVENT
DTSTART;TZID=America/Chicago:20250516T180000
DTEND;TZID=America/Chicago:20250516T200000
DTSTAMP:20260422T180502
CREATED:20240814T150257Z
LAST-MODIFIED:20240814T150257Z
UID:3051-1747418400-1747425600@pack751richardson.com
SUMMARY:Pack Crossover Ceremony (Location: FUMCR)
DESCRIPTION:
URL:https://pack751richardson.com/calendar-single-post-name/pack-crossover-ceremony-location-fumcr/
LOCATION:FUMCR Coleman Hall\, 503 N Central Expy\, Richardson\, 75080\, United States
END:VEVENT
BEGIN:VEVENT
DTSTART;TZID=America/Chicago:20250513T190000
DTEND;TZID=America/Chicago:20250513T200000
DTSTAMP:20260422T180502
CREATED:20240814T145708Z
LAST-MODIFIED:20241118T222358Z
UID:3045-1747162800-1747166400@pack751richardson.com
SUMMARY:Parent Committee Meeting (Location: ZOOM))
DESCRIPTION:
URL:https://pack751richardson.com/calendar-single-post-name/parent-committee-meeting-location-fumcr-3/
END:VEVENT
BEGIN:VEVENT
DTSTART;TZID=America/Chicago:20250504T160000
DTEND;TZID=America/Chicago:20250504T170000
DTSTAMP:20260422T180502
CREATED:20250331T170156Z
LAST-MODIFIED:20250331T170156Z
UID:3168-1746374400-1746378000@pack751richardson.com
SUMMARY:Webelos Den Meeting
DESCRIPTION:Adventure work TBD!
URL:https://pack751richardson.com/calendar-single-post-name/webelos-den-meeting-8/
LOCATION:Northrich Park\, 525 Malden Dr.\, Richardson\, TX\, 75080
END:VEVENT
BEGIN:VEVENT
DTSTART;TZID=America/Chicago:20250429T190000
DTEND;TZID=America/Chicago:20250429T200000
DTSTAMP:20260422T180502
CREATED:20240826T190614Z
LAST-MODIFIED:20240826T190614Z
UID:3067-1745953200-1745956800@pack751richardson.com
SUMMARY:Parent Committee Meeting
DESCRIPTION:
URL:https://pack751richardson.com/calendar-single-post-name/parent-committee-meeting/
LOCATION:FUMCR Coleman Hall\, 503 N Central Expy\, Richardson\, 75080\, United States
END:VEVENT
BEGIN:VEVENT
DTSTART;TZID=America/Chicago:20250427T160000
DTEND;TZID=America/Chicago:20250427T170000
DTSTAMP:20260422T180502
CREATED:20250416T193215Z
LAST-MODIFIED:20250416T193215Z
UID:3177-1745769600-1745773200@pack751richardson.com
SUMMARY:Webelos Den Meeting
DESCRIPTION:Working on our yo-yo adventure!
URL:https://pack751richardson.com/calendar-single-post-name/webelos-den-meeting-11/
LOCATION:Northrich Park\, 525 Malden Dr.\, Richardson\, TX\, 75080
END:VEVENT
BEGIN:VEVENT
DTSTART;TZID=America/Chicago:20250426T100000
DTEND;TZID=America/Chicago:20250426T110000
DTSTAMP:20260422T180502
CREATED:20250425T203313Z
LAST-MODIFIED:20250425T210520Z
UID:3179-1745661600-1745665200@pack751richardson.com
SUMMARY:Bears Den 4 Meeting
DESCRIPTION:I see a fun way for us to knock out the “Bear Strong” and “Bears on Bikes” Adventure by going for a 30-minute Bike ride!\nLet’s meet up at\n10:00 am\nFoxboro Park\n2600 N Plano Rd\, Richardson\, TX 75082\nThen\, we can take a Ride on the Spring Creek Trail! \nBe sure to bring your six essentials and a Bike helmet.
URL:https://pack751richardson.com/calendar-single-post-name/bears-den-4-meeting/
LOCATION:Foxboro Park\, 2600 N Plano Rd\, Richardson\, Richardson\, TX\, 75082\, United States
END:VEVENT
BEGIN:VEVENT
DTSTART;TZID=America/Chicago:20250413T160000
DTEND;TZID=America/Chicago:20250413T170000
DTSTAMP:20260422T180502
CREATED:20250412T135021Z
LAST-MODIFIED:20250412T135021Z
UID:3175-1744560000-1744563600@pack751richardson.com
SUMMARY:Webelos Den Meeting
DESCRIPTION:Yo-yo Adventure!
URL:https://pack751richardson.com/calendar-single-post-name/webelos-den-meeting-10/
LOCATION:Northrich Park\, 525 Malden Dr.\, Richardson\, TX\, 75080
END:VEVENT
BEGIN:VEVENT
DTSTART;TZID=America/Chicago:20250411T180000
DTEND;TZID=America/Chicago:20250411T193000
DTSTAMP:20260422T180502
CREATED:20240814T145120Z
LAST-MODIFIED:20250410T225019Z
UID:3035-1744394400-1744399800@pack751richardson.com
SUMMARY:Pack Meeting - Rainguter Regatta (Location: FUMCR / First Center and Oliphint Field)
DESCRIPTION:Rain Gutter Regatta !\n\n\n\n\nPick up your kit from Austin’s House @ 906 Glen Cove Drive\n\nThen meet us at – First Center and Oliphint Field – at 6 for Racing  fun and enjoy the friendship and fellowship of your Cub Scout buddies and parents\n\n\n\n\n\nWe will have pizza at the Regatta\, so be sure to pay either for Scout or family here: https://pack751.square.site\n\n\n\n\n\nWe’ll also have a sheet with a QR code to pay at the event!
URL:https://pack751richardson.com/calendar-single-post-name/pack-meeting-achievements-awards-location-fumcr-coleman/
LOCATION:First Center and Oliphint Field\, 515 Custer Rd\, Richardson\, TX\, 75080\, United States
END:VEVENT
BEGIN:VEVENT
DTSTART;TZID=America/Chicago:20250406T160000
DTEND;TZID=America/Chicago:20250406T170000
DTSTAMP:20260422T180502
CREATED:20250331T165911Z
LAST-MODIFIED:20250331T165911Z
UID:3164-1743955200-1743958800@pack751richardson.com
SUMMARY:Webelos Den Meeting
DESCRIPTION:We’ll work on the yo-yo elective adventure.
URL:https://pack751richardson.com/calendar-single-post-name/webelos-den-meeting-6/
LOCATION:Northrich Park\, 525 Malden Dr.\, Richardson\, TX\, 75080
END:VEVENT
BEGIN:VEVENT
DTSTART;TZID=America/Chicago:20250321T170000
DTEND;TZID=America/Chicago:20250323T110000
DTSTAMP:20260422T180502
CREATED:20250115T012546Z
LAST-MODIFIED:20250212T022235Z
UID:3130-1742576400-1742727600@pack751richardson.com
SUMMARY:Spring Campout / Cuboree @ Camp Wisdom
DESCRIPTION:We are attending the 2025 Cuboree at Camp Wisdom on March 21- 23 as a pack! We will camp on Friday and Saturday nights. Registration is not open\, but more details can be found here: https://scoutingevent.com/571-2025WisCuboree1 \n\nOn your own Dinner Friday \nDen Lunch \nPack Saturday Dinner \nPack Sunday Breakfast \n\nFollowed by scouts own\n\n\n\n  \n2025 Camp Wisdom Cuboree #1\nCamp Wisdom\nMarch 21 – 23\, 2025\nCamping is optional \nHosted by Duck Creek\, Southern Star\, and Tejas Caddo Districts \nRegistation closes Sunday\, March 16 at 11:00 p.m.\n– NO WALK-INS – \nCalling all Cub Scouts from Lions to Arrow of Light Scouts! Enjoy a fun-filled weekend at Camp Wisdom.\nThe theme for the weekend will be Fly High! Some of the activities to look forward to…\nBB Guns\, Archery\, Slingshots\, Giant Glides\, Raingutter Regatta\, and Kite Racing\, and more!!! \nEvent Details:  \n\nCheck-in: Friday\, March 21 at 6:30 p.m.\nActivities start on Saturday.\nRegistration will close on Sunday\, March 16 at 11:00 p.m.\n(This is the deadline to register\, add/change participants\, update participant information\, and complete payment in full).\nLate adds or walk-ins will not be accommodated.\n\nCost:  \n\nCub Participants: $20\nAdults and Siblings: $10\nYouth and Adult Staff: $10\nCancellations: All cancellations must follow the Refund and Cancellation Policy (See Attachments)\n\nFood will not be provided at this event.  Each Pack must bring their own. \nCamping:\nYou have the option to camp Friday and/or Saturday night. If you wish to be placed with others in your unit\, we recommend you register everyone attending from your unit under the same registration. \nRequired Information:\nThe following information will be required during registration: \n\nFirst and last name\nAllergy\, medical\, or dietary restrictions\nEmergency contact name\, cell number\, and email\nScouting America Membership ID for Cub Scouts\n\nDocumentation Required at Check-in: \n\nUnit Roster (preferred roster is pulled from my.scouting.org)\nAnnual Medical Health Record AB (HERE)\n\nContacts: \n\nEvent Chair: Hal Marshall\nStaff Advisor: Robert Bonnet\nEvent Admin: Skyler McLain
URL:https://pack751richardson.com/calendar-single-post-name/spring-campout-cuboree-camp-wisdom/
LOCATION:Camp Wisdom\, 6400 W Red Bird Ln.\, Dallas\, TX\, 75236\, United States
END:VEVENT
BEGIN:VEVENT
DTSTART;TZID=America/Chicago:20250304T190000
DTEND;TZID=America/Chicago:20250304T200000
DTSTAMP:20260422T180502
CREATED:20240814T145501Z
LAST-MODIFIED:20250303T235027Z
UID:3043-1741114800-1741118400@pack751richardson.com
SUMMARY:Parent Committee Meeting (Location: zoom)
DESCRIPTION:Video call link: \nhttps://meet.google.com/bpf-hwyc-rjc Upgrade  \nAgenda \nhttps://docs.google.com/document/d/1se1poEXp79NWRCadeALZmFnE2-S6AAVE/edit?usp=sharing&ouid=110019863462363225847&rtpof=true&sd=true
URL:https://pack751richardson.com/calendar-single-post-name/parent-committee-meeting-location-zoom-2/
END:VEVENT
BEGIN:VEVENT
DTSTART;TZID=America/Chicago:20250223T160000
DTEND;TZID=America/Chicago:20250223T170000
DTSTAMP:20260422T180502
CREATED:20250118T001659Z
LAST-MODIFIED:20250118T001659Z
UID:3136-1740326400-1740330000@pack751richardson.com
SUMMARY:Webelos Den Meeting
DESCRIPTION:Location TBD\, based on weather
URL:https://pack751richardson.com/calendar-single-post-name/webelos-den-meeting-5/
END:VEVENT
BEGIN:VEVENT
DTSTART;TZID=America/Chicago:20250221T180000
DTEND;TZID=America/Chicago:20250221T200000
DTSTAMP:20260422T180502
CREATED:20241113T202915Z
LAST-MODIFIED:20250211T152622Z
UID:3104-1740160800-1740168000@pack751richardson.com
SUMMARY:Pack Meeting / Build your own 1st Aid and Six Essentials Kits!
DESCRIPTION:This pack meeting is geared towards preparation for our Outdoor Spring Camp on March  21-23.  We’ll learn about Cub Scout 6 Essentials.  We’ll prepare each of these 6 essentials divided up amongst Dens.  Pack is planning to provide the materials for the First Aid Kit.  In the pack meeting\, we’ll create a Bag (gallon Zip Lock bag from Scout hut) with our six essentials.  We’ll also learn to create our mini first aid kit.
URL:https://pack751richardson.com/calendar-single-post-name/pack-meeting-programing-tbd/
LOCATION:FUMCR Coleman Hall\, 503 N Central Expy\, Richardson\, 75080\, United States
END:VEVENT
END:VCALENDAR