BEGIN:VCALENDAR
VERSION:2.0
PRODID:-//Pack 751 Richardson - ECPv6.15.20//NONSGML v1.0//EN
CALSCALE:GREGORIAN
METHOD:PUBLISH
X-ORIGINAL-URL:https://pack751richardson.com
X-WR-CALDESC:Events for Pack 751 Richardson
REFRESH-INTERVAL;VALUE=DURATION:PT1H
X-Robots-Tag:noindex
X-PUBLISHED-TTL:PT1H
BEGIN:VTIMEZONE
TZID:America/Chicago
BEGIN:DAYLIGHT
TZOFFSETFROM:-0600
TZOFFSETTO:-0500
TZNAME:CDT
DTSTART:20250309T080000
END:DAYLIGHT
BEGIN:STANDARD
TZOFFSETFROM:-0500
TZOFFSETTO:-0600
TZNAME:CST
DTSTART:20251102T070000
END:STANDARD
BEGIN:DAYLIGHT
TZOFFSETFROM:-0600
TZOFFSETTO:-0500
TZNAME:CDT
DTSTART:20260308T080000
END:DAYLIGHT
BEGIN:STANDARD
TZOFFSETFROM:-0500
TZOFFSETTO:-0600
TZNAME:CST
DTSTART:20261101T070000
END:STANDARD
BEGIN:DAYLIGHT
TZOFFSETFROM:-0600
TZOFFSETTO:-0500
TZNAME:CDT
DTSTART:20270314T080000
END:DAYLIGHT
BEGIN:STANDARD
TZOFFSETFROM:-0500
TZOFFSETTO:-0600
TZNAME:CST
DTSTART:20271107T070000
END:STANDARD
END:VTIMEZONE
BEGIN:VEVENT
DTSTART;TZID=America/Chicago:20260512T190000
DTEND;TZID=America/Chicago:20260512T200000
DTSTAMP:20260422T171408
CREATED:20251229T052610Z
LAST-MODIFIED:20251229T052610Z
UID:3475-1778612400-1778616000@pack751richardson.com
SUMMARY:Parent Committee Meeting - Zoom
DESCRIPTION:Parent Committee meetings should be attended by all parents that can make it\, especially if you are serving in any volunteer capacity. \n  \nJoin Zoom Meeting\nhttps://raymondjames.zoom.us/j/96276822024?pwd=bIL3unNnbfUf3KHEfoXTT6GOheuVle.1 \nMeeting ID: 962 7682 2024\nPassword: 924081
URL:https://pack751richardson.com/calendar-single-post-name/parent-committee-meeting-zoom-3/
LOCATION:TX
END:VEVENT
BEGIN:VEVENT
DTSTART;TZID=America/Chicago:20260514T190000
DTEND;TZID=America/Chicago:20260514T200000
DTSTAMP:20260422T171408
CREATED:20251229T042045Z
LAST-MODIFIED:20251229T042045Z
UID:3452-1778785200-1778788800@pack751richardson.com
SUMMARY:Northern Trail District Roundtable
DESCRIPTION:
URL:https://pack751richardson.com/calendar-single-post-name/northern-trail-district-roundtable-9/
LOCATION:FUMCR Ed-Room 225\, 503 N Central Expy\, Richardson\, 75080\, United States
END:VEVENT
BEGIN:VEVENT
DTSTART;TZID=America/Chicago:20260515T180000
DTEND;TZID=America/Chicago:20260515T200000
DTSTAMP:20260422T171408
CREATED:20260211T022846Z
LAST-MODIFIED:20260211T022920Z
UID:3490-1778868000-1778875200@pack751richardson.com
SUMMARY:Pack Meeting - Pack Crossover
DESCRIPTION:
URL:https://pack751richardson.com/calendar-single-post-name/pack-meeting-pack-crossover/
LOCATION:FUMCR Coleman Hall\, 503 N Central Expy\, Richardson\, 75080\, United States
END:VEVENT
END:VCALENDAR