BEGIN:VCALENDAR
VERSION:2.0
PRODID:-//Pack 751 Richardson - ECPv6.15.20//NONSGML v1.0//EN
CALSCALE:GREGORIAN
METHOD:PUBLISH
X-WR-CALNAME:Pack 751 Richardson
X-ORIGINAL-URL:https://pack751richardson.com
X-WR-CALDESC:Events for Pack 751 Richardson
REFRESH-INTERVAL;VALUE=DURATION:PT1H
X-Robots-Tag:noindex
X-PUBLISHED-TTL:PT1H
BEGIN:VTIMEZONE
TZID:America/Chicago
BEGIN:DAYLIGHT
TZOFFSETFROM:-0600
TZOFFSETTO:-0500
TZNAME:CDT
DTSTART:20230312T080000
END:DAYLIGHT
BEGIN:STANDARD
TZOFFSETFROM:-0500
TZOFFSETTO:-0600
TZNAME:CST
DTSTART:20231105T070000
END:STANDARD
BEGIN:DAYLIGHT
TZOFFSETFROM:-0600
TZOFFSETTO:-0500
TZNAME:CDT
DTSTART:20240310T080000
END:DAYLIGHT
BEGIN:STANDARD
TZOFFSETFROM:-0500
TZOFFSETTO:-0600
TZNAME:CST
DTSTART:20241103T070000
END:STANDARD
BEGIN:DAYLIGHT
TZOFFSETFROM:-0600
TZOFFSETTO:-0500
TZNAME:CDT
DTSTART:20250309T080000
END:DAYLIGHT
BEGIN:STANDARD
TZOFFSETFROM:-0500
TZOFFSETTO:-0600
TZNAME:CST
DTSTART:20251102T070000
END:STANDARD
BEGIN:DAYLIGHT
TZOFFSETFROM:-0600
TZOFFSETTO:-0500
TZNAME:CDT
DTSTART:20260308T080000
END:DAYLIGHT
BEGIN:STANDARD
TZOFFSETFROM:-0500
TZOFFSETTO:-0600
TZNAME:CST
DTSTART:20261101T070000
END:STANDARD
END:VTIMEZONE
BEGIN:VTIMEZONE
TZID:America/Chicago
BEGIN:DAYLIGHT
TZOFFSETFROM:-0600
TZOFFSETTO:-0500
TZNAME:CDT
DTSTART:20230312T080000
END:DAYLIGHT
BEGIN:STANDARD
TZOFFSETFROM:-0500
TZOFFSETTO:-0600
TZNAME:CST
DTSTART:20231105T070000
END:STANDARD
BEGIN:DAYLIGHT
TZOFFSETFROM:-0600
TZOFFSETTO:-0500
TZNAME:CDT
DTSTART:20240310T080000
END:DAYLIGHT
BEGIN:STANDARD
TZOFFSETFROM:-0500
TZOFFSETTO:-0600
TZNAME:CST
DTSTART:20241103T070000
END:STANDARD
BEGIN:DAYLIGHT
TZOFFSETFROM:-0600
TZOFFSETTO:-0500
TZNAME:CDT
DTSTART:20250309T080000
END:DAYLIGHT
BEGIN:STANDARD
TZOFFSETFROM:-0500
TZOFFSETTO:-0600
TZNAME:CST
DTSTART:20251102T070000
END:STANDARD
END:VTIMEZONE
BEGIN:VEVENT
DTSTART;TZID=America/Chicago:20250209T160000
DTEND;TZID=America/Chicago:20250209T170000
DTSTAMP:20260423T033356
CREATED:20250108T003838Z
LAST-MODIFIED:20250118T001533Z
UID:3124-1739116800-1739120400@pack751richardson.com
SUMMARY:Webelos Den Meeting
DESCRIPTION:Location TBD\, based on weather
URL:https://pack751richardson.com/calendar-single-post-name/webelos-den-meeting-4/
LOCATION:TX
END:VEVENT
BEGIN:VEVENT
DTSTART;TZID=America/Chicago:20250208T090000
DTEND;TZID=America/Chicago:20250208T140000
DTSTAMP:20260423T033356
CREATED:20250107T211110Z
LAST-MODIFIED:20250207T152850Z
UID:3110-1739005200-1739023200@pack751richardson.com
SUMMARY:Scout Day of Service 2025
DESCRIPTION:Sign up here! \nWe can use more people for litter pick up at Breckenridge Park or for the Scouting for Food to benefit Network. \nhttps://www.signupgenius.com/go/60B094DA9A822A5FB6-54278598-northern#/
URL:https://pack751richardson.com/calendar-single-post-name/scout-day-of-service-2025/
LOCATION:TX
END:VEVENT
BEGIN:VEVENT
DTSTART;TZID=America/Chicago:20250207T070000
DTEND;TZID=America/Chicago:20250209T170000
DTSTAMP:20260423T033356
CREATED:20240814T145229Z
LAST-MODIFIED:20240814T145229Z
UID:3037-1738911600-1739120400@pack751richardson.com
SUMMARY:Wood Badge 145 at Camp Wisdom
DESCRIPTION:
URL:https://pack751richardson.com/calendar-single-post-name/wood-badge-145-at-camp-wisdom/
LOCATION:Camp Wisdom\, 6400 W Red Bird Ln.\, Dallas\, TX\, 75236\, United States
END:VEVENT
BEGIN:VEVENT
DTSTART;TZID=America/Chicago:20250126T160000
DTEND;TZID=America/Chicago:20250126T170000
DTSTAMP:20260423T033356
CREATED:20250108T003640Z
LAST-MODIFIED:20250108T003640Z
UID:3121-1737907200-1737910800@pack751richardson.com
SUMMARY:Webelos Den Meeting
DESCRIPTION:Location TBD
URL:https://pack751richardson.com/calendar-single-post-name/webelos-den-meeting-3/
LOCATION:TX
END:VEVENT
BEGIN:VEVENT
DTSTART;TZID=America/Chicago:20250117T180000
DTEND;TZID=America/Chicago:20250117T200000
DTSTAMP:20260423T033356
CREATED:20240812T180116Z
LAST-MODIFIED:20241210T202202Z
UID:3024-1737136800-1737144000@pack751richardson.com
SUMMARY:2025 Pinewood Derby!!
DESCRIPTION:Pack 751 Pinewood Derby 2025\n\n\n\nThe 2025 Pinewood Derby will be Friday\, Jan. 17\, from 6-8 p.m. at First United Methodist Church Richardson.\n\n\nIMPORTANT 2025 UPDATE: All Scouts participating in both the Den-level and Pack-wide competitions MUST compete with a new car that the scout built this school year and that has not previously been used in any pinewood derby competition(s). This rule will be strictly enforced\, and we expect all scouts and Pack 751 families to respect this policy. (See below for more details about opportunities to race previously built cars in the new Legends division.)\n\n\nCar bodies must be built from an official BSA Pinewood Derby kit wood block. No prefabricated car bodies will be allowed! Car bodies built from any non-BSA kits\, regardless of whether the car was built using a pre-cut car body or a plain wood block\, will not be eligible for the Pack and Den competitions and must compete in the Outlaw division.\n\n\nCar check-in and pre-race inspection will take place on race day\, prior to the start of the event. Inspections will begin at 4:30 and all cars will be impounded at 5:30. Please arrive with ample time to check in your car and make any last-minute adjustments before the pre-race impound.\n\n\nHeat races will be held among each Den\, followed by a Pack-wide race for the fastest cars. We’ll conclude the evening with the Legends and Outlaw divisions\, which are both open to scouts\, siblings and adults.\n\n\nFor the Den and Pack competition\, cars must meet the following rules:\n\n\n· Car bodies must be built from an official BSA Pinewood Derby kit wood block.\n\n\n· Width shall not exceed 2-3/4 inches.\n\n\n· Length shall not exceed 7 inches.\n\n\n· Weight shall not exceed 5 ounces.\n\n\n· Axles\, wheels\, and body shall be from the materials provided in the kit. Additional wheels can be purchased separately.\n\n\n· Wheel bearings\, washers\, and bushings are prohibited.\n\n\n· No lubricating oil may be used. Axles may be lubricated with powdered graphite or silicone.\n\n\n· The car shall not ride on any kind of spring.\n\n\n· The car must be freewheeling\, with no starting devices.\n\n\n· No loose materials of any kind are allowed in the car.\n\n\nOutlaw Division and New Legends Division\n\n\nThe new Legends division is open to scouts\, siblings and adults who wish to race Pinewood Derby cars that have previously competed in other PWD events. The primary difference between the Legends and Outlaw divisions is that cars competing in the Legends division must conform to the same technical specifications as cars racing in the main Den and Pack competition\, while the Outlaw division allows participants to build and race creative and extreme car designs outside of the rules.\n\n\nThe purpose of the Legends division is to provide an opportunity for the best cars from multiple years of competition to race against each other. This includes scouts’ top-performing cars from prior competitions\, cars that underperformed in a prior competition\, but have been further worked on and improved\, as well as cars that parents and adult family members built when they were scouts. In addition\, scouts wishing to build more than one car this year can enter additional cars into the Legends division.\n\n\nCars entered in the Legends division must conform to the 2025 technical specifications. Any entries that do not meet these criteria will have to compete in the Outlaw division.\n\n\nOutlaw Division Rules:\n\n\n· Cars must fit on the track\, including the vertical start and finish line arches.\n\n\n· Loose parts\, oil lubricants\, jet fuel\, other liquids\, pyrotechnics\, or anything else that might damage the track\, the facilities or people are prohibited.\n\n\n· Have fun with it\, but please use good judgment.\n\n\nAdditional Info and Tips:\n\n\n· Cars that don’t initially pass inspection can be adjusted and resubmitted for inspection prior to the 5:30 impound. Please bring any tools or supplies you may need to make final adjustments.\n\n\n· Tungsten putty (available from Amazon and hobby stores) is an easy way to add or subtract weight to a car at inspection.\n\n\n· The maximum width and length requirements include any features attached to the body of the car (e.g.\, decorative tailpipes\, wheels\, etc.)\n\n\n· Cars that cannot be brought into compliance with the regulations may enter the Outlaw division\, so long as the car meets the Outlaw division guidelines.\n\n\n· Once a car has cleared inspection and entered into the race\, it cannot leave the garage/racing area without being re-inspected.\n\n\n· Parents are strongly encouraged to have their scouts do as much of the work on their cars as possible\, including age-appropriate use of tools.\n\n\nInterested in helping at the event? Have questions? Need more info? Contact Austin Kilgore 214-908-5097\n\n\nAustin Kilgore\, Competition Director\n\n\nNick McCarthy\, Race Director
URL:https://pack751richardson.com/calendar-single-post-name/pinewood-derby/
LOCATION:FUMCR Coleman Hall\, 503 N Central Expy\, Richardson\, 75080\, United States
END:VEVENT
BEGIN:VEVENT
DTSTART;TZID=America/Chicago:20250114T190000
DTEND;TZID=America/Chicago:20250114T200000
DTSTAMP:20260423T033356
CREATED:20240814T145024Z
LAST-MODIFIED:20250114T220600Z
UID:3033-1736881200-1736884800@pack751richardson.com
SUMMARY:Parent Committee Meeting  (Location: Zoom)
DESCRIPTION:Pack 751 Parent Committee Meeting\nTuesday\, January 14 · 7:00 – 8:00 pm\nTime zone: America/Chicago\nGoogle Meet joining info\nVideo call link: https://meet.google.com/dys-qgnk-edg \nAgenda / Notes \nhttps://docs.google.com/document/d/1jGP90rSuVS3TdEFWPkhdumbyBFWTc0AK/edit?usp=sharing&ouid=110019863462363225847&rtpof=true&sd=true
URL:https://pack751richardson.com/calendar-single-post-name/parent-committee-meeting-location-zoom/
LOCATION:TX
END:VEVENT
BEGIN:VEVENT
DTSTART;TZID=America/Chicago:20250112T160000
DTEND;TZID=America/Chicago:20250112T170000
DTSTAMP:20260423T033356
CREATED:20250108T003319Z
LAST-MODIFIED:20250108T003319Z
UID:3119-1736697600-1736701200@pack751richardson.com
SUMMARY:Webelos Den Meeting
DESCRIPTION:We’ll be completing requirements 1\, 2\, and 3 of the “My Community” adventure with Richardson City Councilman Dan Barrios. Location is TBD.
URL:https://pack751richardson.com/calendar-single-post-name/webelos-den-meeting-2/
LOCATION:TX
END:VEVENT
BEGIN:VEVENT
DTSTART;TZID=America/Chicago:20250111T073000
DTEND;TZID=America/Chicago:20250111T180000
DTSTAMP:20260423T033356
CREATED:20240814T144927Z
LAST-MODIFIED:20240814T154817Z
UID:3031-1736580600-1736618400@pack751richardson.com
SUMMARY:UNIVERSITY OF SCOUTING
DESCRIPTION:
URL:https://pack751richardson.com/calendar-single-post-name/university-of-scouting/
LOCATION:Camp Wisdom\, 6400 W Red Bird Ln.\, Dallas\, TX\, 75236\, United States
END:VEVENT
BEGIN:VEVENT
DTSTART;TZID=America/Chicago:20241207T090000
DTEND;TZID=America/Chicago:20241207T150000
DTSTAMP:20260423T033356
CREATED:20240812T180318Z
LAST-MODIFIED:20240812T180318Z
UID:3026-1733562000-1733583600@pack751richardson.com
SUMMARY:Northern Trail Chill-O-Ree
DESCRIPTION:
URL:https://pack751richardson.com/calendar-single-post-name/northern-trail-chill-o-ree/
LOCATION:Camp Wisdom\, 6400 W Red Bird Ln.\, Dallas\, TX\, 75236\, United States
END:VEVENT
BEGIN:VEVENT
DTSTART;VALUE=DATE:20241207
DTEND;VALUE=DATE:20241208
DTSTAMP:20260423T033356
CREATED:20240704T141740Z
LAST-MODIFIED:20240704T141740Z
UID:2946-1733529600-1733615999@pack751richardson.com
SUMMARY:Chill-O-Ree at Camp Wisdom
DESCRIPTION:All families are cordially invited to attend the 2024 Chill-O-Ree on Saturday\, December 7\, 2024\, at Camp Wisdom. \nCheck-in will be at 8:30 a.m. with activities concluding at 3:00 p.m. Saturday lunch is included in your fee. During the experience ALL Cub Scouts\, friends\, and family will be able to participate in the following: \nArchery ~ Sir Dee Brown Castle and Maze ~ Pirate Ships at Captain’s Cove ~ Explore Cave Mountain ~ Crafts ~ Field Games \nRegister at https://scoutingevent.com/571-2024Chilloree \n  \n 
URL:https://pack751richardson.com/calendar-single-post-name/chill-o-ree-at-camp-wisdom/
LOCATION:Camp Wisdom\, 6400 W Red Bird Ln.\, Dallas\, TX\, 75236\, United States
END:VEVENT
BEGIN:VEVENT
DTSTART;TZID=America/Chicago:20241206T180000
DTEND;TZID=America/Chicago:20241206T200000
DTSTAMP:20260423T033356
CREATED:20241112T220143Z
LAST-MODIFIED:20241112T220143Z
UID:3101-1733508000-1733515200@pack751richardson.com
SUMMARY:Pack Meeting - Achievements/Awards
DESCRIPTION:
URL:https://pack751richardson.com/calendar-single-post-name/pack-meeting-achievements-awards/
LOCATION:FUMCR Coleman Hall\, 503 N Central Expy\, Richardson\, 75080\, United States
END:VEVENT
BEGIN:VEVENT
DTSTART;TZID=America/Chicago:20241119T190000
DTEND;TZID=America/Chicago:20241119T200000
DTSTAMP:20260423T033356
CREATED:20240812T180001Z
LAST-MODIFIED:20241112T215403Z
UID:3022-1732042800-1732046400@pack751richardson.com
SUMMARY:Parent Committee Meeting (Location: FUMCR)
DESCRIPTION:
URL:https://pack751richardson.com/calendar-single-post-name/parent-committee-meeting-location-fumcr/
LOCATION:FUMCR Ed-Room 225\, 503 N Central Expy\, Richardson\, 75080\, United States
END:VEVENT
BEGIN:VEVENT
DTSTART;TZID=America/Chicago:20241109T080000
DTEND;TZID=America/Chicago:20241109T170000
DTSTAMP:20260423T033356
CREATED:20240812T175654Z
LAST-MODIFIED:20240812T175654Z
UID:3016-1731139200-1731171600@pack751richardson.com
SUMMARY:Northern Trail Cub Fun Day
DESCRIPTION:
URL:https://pack751richardson.com/calendar-single-post-name/northern-trail-cub-fun-day/
LOCATION:TX
END:VEVENT
BEGIN:VEVENT
DTSTART;VALUE=DATE:20241109
DTEND;VALUE=DATE:20241110
DTSTAMP:20260423T033356
CREATED:20240812T175848Z
LAST-MODIFIED:20250901T225904Z
UID:3020-1731110400-1731196799@pack751richardson.com
SUMMARY:Popcorn Orders Delivered
DESCRIPTION:
URL:https://pack751richardson.com/calendar-single-post-name/popcorn-orders-delivered/
LOCATION:TX
END:VEVENT
BEGIN:VEVENT
DTSTART;TZID=America/Chicago:20241108T170000
DTEND;TZID=America/Chicago:20241110T120000
DTSTAMP:20260423T033356
CREATED:20240807T220510Z
LAST-MODIFIED:20241014T212504Z
UID:2979-1731085200-1731240000@pack751richardson.com
SUMMARY:Pack 751 Fall Camp Out 2024
DESCRIPTION:EPIC FISHING! Come with your gear\, catch\, and release. Earn a patch WEHN\, and you catch a fish. \nWe will be camping at Trevor Rees-Jones Scout Camp in Athens\, TX\, which is just over an hour and a half away. We have two campsites reserved—Lone Wolf and Black Bear. See the camp map for the location. Lions\, Tigers\, and Wolves will camp at the Lone Wolf site; Bears\, Webelos\, and Arrow of Light will camp at Black Bear. The campout dates are Friday\, November 8\, 2024\, to Sunday\, November 10\, 2024. \n\nWe are a family pack\, and the entire family is invited; RSVP here! To help offset the cost of reservation of the campsites and the pack meal\, we are asking for a donation of $10 per family (cash or check\, please 😀) \n\nImportant information \n\nCampsites have platforms for four-person tents. To prevent damage to the platforms and the tents\, larger tents must be set up directly on the ground.\nPacking lists can be found on the pack website.\nAll campers (parent and adult) must have current medical release forms. The forms can be found on the camp website.\nThere are stocked ponds for catch-and-release fishing – bring your own pole!\n\n  \nAgenda! \nFriday: \n4.00-8.00 Families arrive and set up tents. On your own for dinner \n\nSaturday: \n7.00-8.00 Den breakfast \n8.00-11.00 Den activities (Catch up on activity loops/work on bobcat badge) \n11.00 Den lunch \n12.00.1.00 Field games* \n1.00-2.00 Pack hike* \n2.00-5.30 free time \n5.30 – 7.00 Pack Dinner \n7.00 Campfire* \n8.30 return to camp \n9.30 lights out \n\nSunday: \n7.00-8.00 Den breakfast \n8.00-8.15 Interfaith service* \n8.15-10.00 pack up and clean up campsites \n* = Volunteer needed to coordinate \n\nTL;DR \nLocation: Trevor Rees-Jones Scout Camp\, Athens\, Texas. \nDate: November 8-10\, 2024 \nLion/Tiger/Wolves – Lone Wolf \nBear/Webelos/Arrow of Light – Black Bear \nCost: $10/family \nRSVP here! \nCamp map! \nAdults volunteer to help with camp activities! \n\nThanks! \n—  \nSam Mettauer\nsmettauer@gmail.com\n214.499.7692
URL:https://pack751richardson.com/calendar-single-post-name/pack-751-fall-camp-out-2024/
LOCATION:BSA Camp Treavor Rees-Jones\, 11217 FM 2970\, Athens\, Texas\, 75751
END:VEVENT
BEGIN:VEVENT
DTSTART;VALUE=DATE:20241028
DTEND;VALUE=DATE:20241029
DTSTAMP:20260423T033356
CREATED:20240812T175504Z
LAST-MODIFIED:20250901T230021Z
UID:3014-1730073600-1730159999@pack751richardson.com
SUMMARY:Popcorn Orders and $ Due
DESCRIPTION:
URL:https://pack751richardson.com/calendar-single-post-name/popcorn-orders-and-due/
LOCATION:TX
END:VEVENT
BEGIN:VEVENT
DTSTART;TZID=America/Chicago:20241025T180000
DTEND;TZID=America/Chicago:20241025T200000
DTSTAMP:20260423T033356
CREATED:20240812T175405Z
LAST-MODIFIED:20241022T171114Z
UID:3012-1729879200-1729886400@pack751richardson.com
SUMMARY:Pack Meeting x Scout Olympics
DESCRIPTION:Join us at First Center and Oliphint Field this Friday for a fun field evening of games with our scouts!! \nWe will have the following events and look forward to seeing you all. \nEgg race = Lions  \nBag of Air Relay = Bears \nThree-legged race = Wolves \n2×6 team race = AOL \nSack Race = Webelos  
URL:https://pack751richardson.com/calendar-single-post-name/pack-meeting/
LOCATION:First Center and Oliphint Field\, 515 Custer Rd\, Richardson\, TX\, 75080\, United States
END:VEVENT
BEGIN:VEVENT
DTSTART;TZID=America/Chicago:20241020T160000
DTEND;TZID=America/Chicago:20241020T170000
DTSTAMP:20260423T033356
CREATED:20240819T085207Z
LAST-MODIFIED:20240908T232956Z
UID:3062-1729440000-1729443600@pack751richardson.com
SUMMARY:Webelos Meeting 4
DESCRIPTION:More info TK
URL:https://pack751richardson.com/calendar-single-post-name/webelos-meeting-4/
LOCATION:TX
END:VEVENT
BEGIN:VEVENT
DTSTART;TZID=America/Chicago:20241019T100000
DTEND;TZID=America/Chicago:20241019T110000
DTSTAMP:20260423T033356
CREATED:20240912T180948Z
LAST-MODIFIED:20241014T210933Z
UID:3080-1729332000-1729335600@pack751richardson.com
SUMMARY:Den 4 - Bears - Bear Claw Adventure
DESCRIPTION:Bear Claws \n\n\n\n\nBear Handbook\, page 50 \n\n\n\n\nRATIONALE FOR ADVENTURE \nMost Cub Scouts are very excited about the opportunity to own and carry a pocketknife. In some families a pocketknife may be a common tool to carry. In other cases this might be the first time the Cub Scouts and their families are learning about knife safety. It is important that each Scout understands a pocketknife is a tool and not a toy\, and how to responsibly handle and use the pocketknife when they are around others. \nTAKEAWAYS FOR CUB SCOUTS \n\nUnderstanding that carrying and using a pocketknife at approved Scouting activities is an honor to be given to those Scouts who demonstrate they are mature enough to live up to the responsibility that goes along with this tool\nLearning the different types of pocketknives and the appropriate times to use them\nLearning and following safety rules\nA\nA Scout is trustworthy\, obedient.
URL:https://pack751richardson.com/calendar-single-post-name/den-4-bears-bear-claw-adventure/
LOCATION:Huffhines Park\, 300 N Plano Rd.\, Richardson\, TX\, 75081\, United States
END:VEVENT
BEGIN:VEVENT
DTSTART;TZID=America/Chicago:20241018T170000
DTEND;TZID=America/Chicago:20241020T170000
DTSTAMP:20260423T033356
CREATED:20240812T175259Z
LAST-MODIFIED:20240812T181409Z
UID:3009-1729270800-1729443600@pack751richardson.com
SUMMARY:Wood Badge 144 at camp Constantine
DESCRIPTION:
URL:https://pack751richardson.com/calendar-single-post-name/wood-badge-144-at-camp-constantine/
LOCATION:Camp Constantine\, 3003 Park Road 36\, Graford\, TX\, 76449\, United States
END:VEVENT
BEGIN:VEVENT
DTSTART;TZID=America/Chicago:20241013T160000
DTEND;TZID=America/Chicago:20241013T170000
DTSTAMP:20260423T033356
CREATED:20240819T084916Z
LAST-MODIFIED:20240908T232937Z
UID:3060-1728835200-1728838800@pack751richardson.com
SUMMARY:Webelos Meeting 3
DESCRIPTION:More info TK
URL:https://pack751richardson.com/calendar-single-post-name/webelos-meeting-3/
LOCATION:TX
END:VEVENT
BEGIN:VEVENT
DTSTART;TZID=America/Chicago:20241011T170000
DTEND;TZID=America/Chicago:20241013T120000
DTSTAMP:20260423T033356
CREATED:20240812T174915Z
LAST-MODIFIED:20240812T174915Z
UID:3005-1728666000-1728820800@pack751richardson.com
SUMMARY:Fall Parent N Pal Weekend at TRJ
DESCRIPTION:
URL:https://pack751richardson.com/calendar-single-post-name/fall-parent-n-pal-weekend-at-trj/
LOCATION:Trevor Rees-Jones Scout Camp\, BSA Trevor Rees-Jones Scout Camp\, Camp Trevor Rees - Jones\, Athens\, TX\, 75751\, United States
END:VEVENT
BEGIN:VEVENT
DTSTART;TZID=America/Chicago:20241008T190000
DTEND;TZID=America/Chicago:20241008T200000
DTSTAMP:20260423T033356
CREATED:20240808T033903Z
LAST-MODIFIED:20240826T183210Z
UID:2986-1728414000-1728417600@pack751richardson.com
SUMMARY:October Parent Committee Meeting (Zoom) 2024
DESCRIPTION:Zoom link TBD
URL:https://pack751richardson.com/calendar-single-post-name/oct-parent-committee-meeting-zoom-2024/
LOCATION:TX
END:VEVENT
BEGIN:VEVENT
DTSTART;TZID=America/Chicago:20240921T100000
DTEND;TZID=America/Chicago:20240921T120000
DTSTAMP:20260423T033356
CREATED:20240912T174409Z
LAST-MODIFIED:20240916T204654Z
UID:3078-1726912800-1726920000@pack751richardson.com
SUMMARY:Den 4 - Bears - Paws of Action Adventure
DESCRIPTION:Join us at Huffines Park for the Safety Expo and lets knock out the Paws of Action Adventure! \nHelicopters\, first response vehicles\, Chase from Paw Patrol\, and more cool stuff. \nRally point TBD \nhttps://www.richardsonpolice.net/Home/Components/Calendar/Event/22415/2522?fsiteid=2
URL:https://pack751richardson.com/calendar-single-post-name/den-4-bears-paws-of-action-adventure/
LOCATION:Huffhines Park\, 300 N Plano Rd.\, Richardson\, TX\, 75081\, United States
END:VEVENT
BEGIN:VEVENT
DTSTART;TZID=America/Chicago:20240921T100000
DTEND;TZID=America/Chicago:20240921T120000
DTSTAMP:20260423T033356
CREATED:20240908T232839Z
LAST-MODIFIED:20240917T014545Z
UID:3073-1726912800-1726920000@pack751richardson.com
SUMMARY:Webelos Den Meeting: Public Safety Expo
DESCRIPTION:The Webelos will attend the Richardson Police Department Public Safety Expo at Huffhines Park from 10 AM to noon. Please wear your Class A (dress) uniform and arrive on time.
URL:https://pack751richardson.com/calendar-single-post-name/webelos-den-meeting-public-safety-expo/
LOCATION:Huffhines Park\, 300 N Plano Rd.\, Richardson\, TX\, 75081\, United States
END:VEVENT
BEGIN:VEVENT
DTSTART;TZID=America/Chicago:20240920T180000
DTEND;TZID=America/Chicago:20240920T200000
DTSTAMP:20260423T033356
CREATED:20240812T174709Z
LAST-MODIFIED:20240828T002013Z
UID:3000-1726855200-1726862400@pack751richardson.com
SUMMARY:Pack Social Family Night
DESCRIPTION:
URL:https://pack751richardson.com/calendar-single-post-name/pack-social-family-night/
LOCATION:Heights Park\, 711 W Arapaho Rd\, Richardson\, 75080\, United States
END:VEVENT
BEGIN:VEVENT
DTSTART;TZID=America/Chicago:20240917T190000
DTEND;TZID=America/Chicago:20240917T200000
DTSTAMP:20260423T033356
CREATED:20240808T033716Z
LAST-MODIFIED:20240827T033704Z
UID:2984-1726599600-1726603200@pack751richardson.com
SUMMARY:September Parent Committee Meeting @ FUMCR Ed-Room 225
DESCRIPTION:
URL:https://pack751richardson.com/calendar-single-post-name/sept-parent-committee-meeting/
LOCATION:FUMCR Ed-Room 225\, 503 N Central Expy\, Richardson\, 75080\, United States
END:VEVENT
BEGIN:VEVENT
DTSTART;TZID=America/Chicago:20240910T190000
DTEND;TZID=America/Chicago:20240910T203000
DTSTAMP:20260423T033356
CREATED:20240813T163255Z
LAST-MODIFIED:20240813T163255Z
UID:3029-1725994800-1726000200@pack751richardson.com
SUMMARY:SNFS - School Night for Scouting
DESCRIPTION:
URL:https://pack751richardson.com/calendar-single-post-name/snfs-school-night-for-scouting/
LOCATION:Arapaho Classical Magnet\, 1300 Cypress Dr.\, Richardson\, TX\, 75080\, United States
END:VEVENT
BEGIN:VEVENT
DTSTART;TZID=America/Chicago:20240908T160000
DTEND;TZID=America/Chicago:20240908T170000
DTSTAMP:20260423T033356
CREATED:20240819T084640Z
LAST-MODIFIED:20240819T084651Z
UID:3056-1725811200-1725814800@pack751richardson.com
SUMMARY:Webelos Meeting 2
DESCRIPTION:More info TK.
URL:https://pack751richardson.com/calendar-single-post-name/webelos-meeting-2/
LOCATION:TX
END:VEVENT
BEGIN:VEVENT
DTSTART;TZID=America/Chicago:20240827T190000
DTEND;TZID=America/Chicago:20240827T200000
DTSTAMP:20260423T033356
CREATED:20240808T033457Z
LAST-MODIFIED:20240826T145013Z
UID:2982-1724785200-1724788800@pack751richardson.com
SUMMARY:August Parent Committee Meeting (Zoom) 2024
DESCRIPTION:Zoom link TBD
URL:https://pack751richardson.com/calendar-single-post-name/august-parent-committee-meeting-zoom-2024/
LOCATION:TX
END:VEVENT
END:VCALENDAR