BEGIN:VCALENDAR
VERSION:2.0
PRODID:-//Pack 751 Richardson - ECPv6.15.20//NONSGML v1.0//EN
CALSCALE:GREGORIAN
METHOD:PUBLISH
X-WR-CALNAME:Pack 751 Richardson
X-ORIGINAL-URL:https://pack751richardson.com
X-WR-CALDESC:Events for Pack 751 Richardson
REFRESH-INTERVAL;VALUE=DURATION:PT1H
X-Robots-Tag:noindex
X-PUBLISHED-TTL:PT1H
BEGIN:VTIMEZONE
TZID:America/Chicago
BEGIN:DAYLIGHT
TZOFFSETFROM:-0600
TZOFFSETTO:-0500
TZNAME:CDT
DTSTART:20220313T080000
END:DAYLIGHT
BEGIN:STANDARD
TZOFFSETFROM:-0500
TZOFFSETTO:-0600
TZNAME:CST
DTSTART:20221106T070000
END:STANDARD
BEGIN:DAYLIGHT
TZOFFSETFROM:-0600
TZOFFSETTO:-0500
TZNAME:CDT
DTSTART:20230312T080000
END:DAYLIGHT
BEGIN:STANDARD
TZOFFSETFROM:-0500
TZOFFSETTO:-0600
TZNAME:CST
DTSTART:20231105T070000
END:STANDARD
BEGIN:DAYLIGHT
TZOFFSETFROM:-0600
TZOFFSETTO:-0500
TZNAME:CDT
DTSTART:20240310T080000
END:DAYLIGHT
BEGIN:STANDARD
TZOFFSETFROM:-0500
TZOFFSETTO:-0600
TZNAME:CST
DTSTART:20241103T070000
END:STANDARD
END:VTIMEZONE
BEGIN:VTIMEZONE
TZID:America/Chicago
BEGIN:DAYLIGHT
TZOFFSETFROM:-0600
TZOFFSETTO:-0500
TZNAME:CDT
DTSTART:20220313T080000
END:DAYLIGHT
BEGIN:STANDARD
TZOFFSETFROM:-0500
TZOFFSETTO:-0600
TZNAME:CST
DTSTART:20221106T070000
END:STANDARD
BEGIN:DAYLIGHT
TZOFFSETFROM:-0600
TZOFFSETTO:-0500
TZNAME:CDT
DTSTART:20230312T080000
END:DAYLIGHT
BEGIN:STANDARD
TZOFFSETFROM:-0500
TZOFFSETTO:-0600
TZNAME:CST
DTSTART:20231105T070000
END:STANDARD
BEGIN:DAYLIGHT
TZOFFSETFROM:-0600
TZOFFSETTO:-0500
TZNAME:CDT
DTSTART:20240310T080000
END:DAYLIGHT
BEGIN:STANDARD
TZOFFSETFROM:-0500
TZOFFSETTO:-0600
TZNAME:CST
DTSTART:20241103T070000
END:STANDARD
END:VTIMEZONE
BEGIN:VEVENT
DTSTART;TZID=America/Chicago:20230903T160000
DTEND;TZID=America/Chicago:20230903T170000
DTSTAMP:20260423T125354
CREATED:20230805T232841Z
LAST-MODIFIED:20230824T203629Z
UID:1901-1693756800-1693760400@pack751richardson.com
SUMMARY:Bears Den Meeting 1
DESCRIPTION:We’ll be working one two adventures: \n\nPaws for Action (Duty to Country) adventure\, requirements 1\, 2a.\nBear Necessities adventure\, requirements 2 and 3\n\nPlease get a small American flag to bring to the meeting & display at home for one month. \n 
URL:https://pack751richardson.com/calendar-single-post-name/bears-den-meeting-1/
LOCATION:Glaser House\, 1435 Lamp Post Lane\, Richardson\, 75080\, United States
ORGANIZER;CN="Den 3 Bears":MAILTO:lashafer@gmail.com
END:VEVENT
BEGIN:VEVENT
DTSTART;TZID=America/Chicago:20230903T140000
DTEND;TZID=America/Chicago:20230903T153000
DTSTAMP:20260423T125354
CREATED:20230817T141217Z
LAST-MODIFIED:20230817T151355Z
UID:2376-1693749600-1693755000@pack751richardson.com
SUMMARY:Tigers Den Meeting 1
DESCRIPTION:Adventure: Floats and Boats (elective) \n 
URL:https://pack751richardson.com/calendar-single-post-name/tigers-den-meeting-1/
LOCATION:Mettauer House\, 7216 Arbor Oaks Dr.\, Dallas\, TX\, 75248\, United States
END:VEVENT
BEGIN:VEVENT
DTSTART;TZID=America/Chicago:20230830T190000
DTEND;TZID=America/Chicago:20230830T200000
DTSTAMP:20260423T125354
CREATED:20230801T050733Z
LAST-MODIFIED:20230821T165632Z
UID:1790-1693422000-1693425600@pack751richardson.com
SUMMARY:ACM School Night for Scouting Recruiting Event
DESCRIPTION:Wear your Class A or Class B (t-shirt) uniform and join us in the ACM cafeteria. Invite friends so we can grow our Pack! \nSee the event link at https://pack751richardson.com/calendar-single-post-name/acm-school-night-for-scouting-recruiting-event/
URL:https://pack751richardson.com/calendar-single-post-name/acm-school-night-for-scouting-recruiting-event/
LOCATION:Arapaho Classical Magnet\, 1300 Cypress Dr.\, Richardson\, TX\, 75080\, United States
END:VEVENT
BEGIN:VEVENT
DTSTART;TZID=America/Chicago:20230827T130000
DTEND;TZID=America/Chicago:20230827T150000
DTSTAMP:20260423T125354
CREATED:20230815T001434Z
LAST-MODIFIED:20230821T160852Z
UID:2302-1693141200-1693148400@pack751richardson.com
SUMMARY:Beat the Heat Pack Outing
DESCRIPTION:See event link and map at https://pack751richardson.com/calendar-single-post-name/beat-the-heat-pack-outing/. \nSee blog post for more details: https://pack751richardson.com/2023/08/14/beat-the-heat-pack-outing/
URL:https://pack751richardson.com/calendar-single-post-name/beat-the-heat-pack-outing/
LOCATION:Free Play Richardson\, 1730 East Belt Line Road\, Richardson\, TX\, 75081\, United States
END:VEVENT
BEGIN:VEVENT
DTSTART;TZID=America/Chicago:20230822T190000
DTEND;TZID=America/Chicago:20230822T200000
DTSTAMP:20260423T125354
CREATED:20230801T062449Z
LAST-MODIFIED:20230803T003642Z
UID:1861-1692730800-1692734400@pack751richardson.com
SUMMARY:August Parent Committee Meeting (Zoom) 2023
DESCRIPTION:Zoom link TBD
URL:https://pack751richardson.com/calendar-single-post-name/august-parent-committee-meeting-zoom-2023/
LOCATION:TX
END:VEVENT
END:VCALENDAR