BEGIN:VCALENDAR
VERSION:2.0
PRODID:-//Pack 751 Richardson - ECPv6.15.20//NONSGML v1.0//EN
CALSCALE:GREGORIAN
METHOD:PUBLISH
X-WR-CALNAME:Pack 751 Richardson
X-ORIGINAL-URL:https://pack751richardson.com
X-WR-CALDESC:Events for Pack 751 Richardson
REFRESH-INTERVAL;VALUE=DURATION:PT1H
X-Robots-Tag:noindex
X-PUBLISHED-TTL:PT1H
BEGIN:VTIMEZONE
TZID:America/Chicago
BEGIN:DAYLIGHT
TZOFFSETFROM:-0600
TZOFFSETTO:-0500
TZNAME:CDT
DTSTART:20220313T080000
END:DAYLIGHT
BEGIN:STANDARD
TZOFFSETFROM:-0500
TZOFFSETTO:-0600
TZNAME:CST
DTSTART:20221106T070000
END:STANDARD
BEGIN:DAYLIGHT
TZOFFSETFROM:-0600
TZOFFSETTO:-0500
TZNAME:CDT
DTSTART:20230312T080000
END:DAYLIGHT
BEGIN:STANDARD
TZOFFSETFROM:-0500
TZOFFSETTO:-0600
TZNAME:CST
DTSTART:20231105T070000
END:STANDARD
BEGIN:DAYLIGHT
TZOFFSETFROM:-0600
TZOFFSETTO:-0500
TZNAME:CDT
DTSTART:20240310T080000
END:DAYLIGHT
BEGIN:STANDARD
TZOFFSETFROM:-0500
TZOFFSETTO:-0600
TZNAME:CST
DTSTART:20241103T070000
END:STANDARD
BEGIN:DAYLIGHT
TZOFFSETFROM:-0600
TZOFFSETTO:-0500
TZNAME:CDT
DTSTART:20250309T080000
END:DAYLIGHT
BEGIN:STANDARD
TZOFFSETFROM:-0500
TZOFFSETTO:-0600
TZNAME:CST
DTSTART:20251102T070000
END:STANDARD
END:VTIMEZONE
BEGIN:VTIMEZONE
TZID:America/Chicago
BEGIN:DAYLIGHT
TZOFFSETFROM:-0600
TZOFFSETTO:-0500
TZNAME:CDT
DTSTART:20220313T080000
END:DAYLIGHT
BEGIN:STANDARD
TZOFFSETFROM:-0500
TZOFFSETTO:-0600
TZNAME:CST
DTSTART:20221106T070000
END:STANDARD
BEGIN:DAYLIGHT
TZOFFSETFROM:-0600
TZOFFSETTO:-0500
TZNAME:CDT
DTSTART:20230312T080000
END:DAYLIGHT
BEGIN:STANDARD
TZOFFSETFROM:-0500
TZOFFSETTO:-0600
TZNAME:CST
DTSTART:20231105T070000
END:STANDARD
BEGIN:DAYLIGHT
TZOFFSETFROM:-0600
TZOFFSETTO:-0500
TZNAME:CDT
DTSTART:20240310T080000
END:DAYLIGHT
BEGIN:STANDARD
TZOFFSETFROM:-0500
TZOFFSETTO:-0600
TZNAME:CST
DTSTART:20241103T070000
END:STANDARD
BEGIN:DAYLIGHT
TZOFFSETFROM:-0600
TZOFFSETTO:-0500
TZNAME:CDT
DTSTART:20250309T080000
END:DAYLIGHT
BEGIN:STANDARD
TZOFFSETFROM:-0500
TZOFFSETTO:-0600
TZNAME:CST
DTSTART:20251102T070000
END:STANDARD
END:VTIMEZONE
BEGIN:VTIMEZONE
TZID:UTC
BEGIN:STANDARD
TZOFFSETFROM:+0000
TZOFFSETTO:+0000
TZNAME:UTC
DTSTART:20220101T000000
END:STANDARD
END:VTIMEZONE
BEGIN:VEVENT
DTSTART;TZID=America/Chicago:20240302T140000
DTEND;TZID=America/Chicago:20240302T160000
DTSTAMP:20260423T024310
CREATED:20240116T145326Z
LAST-MODIFIED:20240116T145452Z
UID:2799-1709388000-1709395200@pack751richardson.com
SUMMARY:Wolves Den Meeting
DESCRIPTION:
URL:https://pack751richardson.com/calendar-single-post-name/wolves-den-meeting-4/
END:VEVENT
BEGIN:VEVENT
DTSTART;TZID=America/Chicago:20240301T174500
DTEND;TZID=America/Chicago:20240301T193000
DTSTAMP:20260423T024310
CREATED:20230801T054142Z
LAST-MODIFIED:20240221T013122Z
UID:1832-1709315100-1709321400@pack751richardson.com
SUMMARY:Bike Rodeo 2024
DESCRIPTION:Join us in the First UMC parking lot for an annual tradition\, our bike rodeo. More information to come closer to the event date.
URL:https://pack751richardson.com/calendar-single-post-name/bike-rodeo-2024/
LOCATION:FUMCR Ed-Room 225\, 503 N Central Expy\, Richardson\, 75080\, United States
END:VEVENT
BEGIN:VEVENT
DTSTART;TZID=America/Chicago:20240225T083000
DTEND;TZID=America/Chicago:20240225T120000
DTSTAMP:20260423T024310
CREATED:20240216T203107Z
LAST-MODIFIED:20240220T194208Z
UID:2838-1708849800-1708862400@pack751richardson.com
SUMMARY:Scout Sunday FUMCR 2024
DESCRIPTION:Scout Sunday is February 25 at First United Methodist Church\, Richardson! FUMCR is a great partner and host for our pack\, so let’s support the day with a great show. Our scouts will help by being door greeters\, passing out service bulletins and assisting ushers during the service. There are four services (8:45am\, 9:45am\, and two at 11am) to support. Please wear your full class A/field uniform for this day and plan to show up about 25 minutes prior to the service start time to help. Please consider joining for the entire morning or for the service that fits your schedule best. I’d like to see us have at least 10 scouts for each service. A scout is reverent! \nhttps://www.signupgenius.com/go/20F054EAFAA2FABF85-48023775-scout
URL:https://pack751richardson.com/calendar-single-post-name/scout-sunday-fumcr/
LOCATION:FUMCR Coleman Hall\, 503 N Central Expy\, Richardson\, 75080\, United States
END:VEVENT
BEGIN:VEVENT
DTSTART;TZID=America/Chicago:20240220T190000
DTEND;TZID=America/Chicago:20240220T200000
DTSTAMP:20260423T024310
CREATED:20230801T053843Z
LAST-MODIFIED:20240117T023440Z
UID:1828-1708455600-1708459200@pack751richardson.com
SUMMARY:February Parent Committee Meeting @ FUMCR Ed-Room 225
DESCRIPTION:
URL:https://pack751richardson.com/calendar-single-post-name/february-parent-committee-meeting-zoom-2024/
LOCATION:FUMCR Ed-Room 225\, 503 N Central Expy\, Richardson\, 75080\, United States
END:VEVENT
BEGIN:VEVENT
DTSTART;TZID=America/Chicago:20240218T160000
DTEND;TZID=America/Chicago:20240218T170000
DTSTAMP:20260423T024310
CREATED:20240115T004025Z
LAST-MODIFIED:20240115T004025Z
UID:2767-1708272000-1708275600@pack751richardson.com
SUMMARY:Bears Den Meeting 11
DESCRIPTION:Location and adventure TBD.
URL:https://pack751richardson.com/calendar-single-post-name/bears-den-meeting-11/
ORGANIZER;CN="Den 3 Bears":MAILTO:lashafer@gmail.com
END:VEVENT
BEGIN:VEVENT
DTSTART;TZID=America/Chicago:20240217T140000
DTEND;TZID=America/Chicago:20240217T160000
DTSTAMP:20260423T024310
CREATED:20240116T145252Z
LAST-MODIFIED:20240116T145252Z
UID:2797-1708178400-1708185600@pack751richardson.com
SUMMARY:Wolves Den Meeting
DESCRIPTION:
URL:https://pack751richardson.com/calendar-single-post-name/wolves-den-meeting-3/
END:VEVENT
BEGIN:VEVENT
DTSTART;TZID=America/Chicago:20240204T160000
DTEND;TZID=America/Chicago:20240204T170000
DTSTAMP:20260423T024310
CREATED:20240115T003951Z
LAST-MODIFIED:20240115T003951Z
UID:2763-1707062400-1707066000@pack751richardson.com
SUMMARY:Bears Den Meeting 10
DESCRIPTION:Location and adventure TBD.
URL:https://pack751richardson.com/calendar-single-post-name/bears-den-meeting-10/
ORGANIZER;CN="Den 3 Bears":MAILTO:lashafer@gmail.com
END:VEVENT
BEGIN:VEVENT
DTSTART;TZID=America/Chicago:20240203T140000
DTEND;TZID=America/Chicago:20240203T160000
DTSTAMP:20260423T024310
CREATED:20240116T144641Z
LAST-MODIFIED:20240116T144703Z
UID:2795-1706968800-1706976000@pack751richardson.com
SUMMARY:Wolves Den Meeting
DESCRIPTION:
URL:https://pack751richardson.com/calendar-single-post-name/wolves-den-meeting-2/
END:VEVENT
BEGIN:VEVENT
DTSTART;TZID=America/Chicago:20240202T180000
DTEND;TZID=America/Chicago:20240202T200000
DTSTAMP:20260423T024310
CREATED:20240115T004810Z
LAST-MODIFIED:20240202T001843Z
UID:2781-1706896800-1706904000@pack751richardson.com
SUMMARY:Pinewood Derby 2024
DESCRIPTION:Join us in Coleman Hall at First United Methodist Church Richardson (FUMCR).
URL:https://pack751richardson.com/calendar-single-post-name/pinewood-derby-2024/
LOCATION:FUMCR Ed-Room 225\, 503 N Central Expy\, Richardson\, 75080\, United States
ATTACH;FMTTYPE=image/jpeg:https://pack751richardson.com/wp-content/uploads/2023/07/Pinewood-Derby-Race-Cars.jpeg
END:VEVENT
BEGIN:VEVENT
DTSTART;TZID=America/Chicago:20240202T163000
DTEND;TZID=America/Chicago:20240202T173000
DTSTAMP:20260423T024310
CREATED:20240117T020416Z
LAST-MODIFIED:20240117T020416Z
UID:2810-1706891400-1706895000@pack751richardson.com
SUMMARY:Pinewood Derby Check in
DESCRIPTION:
URL:https://pack751richardson.com/calendar-single-post-name/pinewood-derby-check-in/
LOCATION:FUMCR Coleman Hall\, 503 N Central Expy\, Richardson\, 75080\, United States
END:VEVENT
BEGIN:VEVENT
DTSTART;TZID=America/Chicago:20240125T174500
DTEND;TZID=America/Chicago:20240125T190000
DTSTAMP:20260423T024310
CREATED:20240116T143542Z
LAST-MODIFIED:20240117T021029Z
UID:2791-1706204700-1706209200@pack751richardson.com
SUMMARY:Recruitment! ACM Family & Community Engagement Night
DESCRIPTION:Set up at 5:45\,
URL:https://pack751richardson.com/calendar-single-post-name/recruitment-acm-family-community-engagement-night/
LOCATION:Arapaho Classical Magnet\, 1300 Cypress Dr.\, Richardson\, TX\, 75080\, United States
END:VEVENT
BEGIN:VEVENT
DTSTART;TZID=America/Chicago:20240121T160000
DTEND;TZID=America/Chicago:20240121T170000
DTSTAMP:20260423T024310
CREATED:20240115T003853Z
LAST-MODIFIED:20240115T003853Z
UID:2761-1705852800-1705856400@pack751richardson.com
SUMMARY:Bears Den Meeting 9
DESCRIPTION:Work on Pinewood Derby cars at the Battershell house.
URL:https://pack751richardson.com/calendar-single-post-name/bears-den-meeting-9/
LOCATION:Battershell House\, 1206 Holly Dr.\, Richardson\, TX\, 75080
ORGANIZER;CN="Den 3 Bears":MAILTO:lashafer@gmail.com
END:VEVENT
BEGIN:VEVENT
DTSTART;TZID=America/Chicago:20240121T130000
DTEND;TZID=America/Chicago:20240121T150000
DTSTAMP:20260423T024310
CREATED:20240112T141009Z
LAST-MODIFIED:20240112T141009Z
UID:2704-1705842000-1705849200@pack751richardson.com
SUMMARY:Pinewood Derby Car Prep/Workshop
DESCRIPTION:Scouts and parents are welcome to work on their derby cars at Trey’s garage.
URL:https://pack751richardson.com/calendar-single-post-name/pinewood-derby-car-prep-workshop/
LOCATION:Trey’s House – 110 North Gentle Drive\, 110 North Gentle\, Richardson\, TX\, 75080\, United States
END:VEVENT
BEGIN:VEVENT
DTSTART;TZID=America/Chicago:20240116T193000
DTEND;TZID=America/Chicago:20240116T203000
DTSTAMP:20260423T024310
CREATED:20240115T003256Z
LAST-MODIFIED:20240116T031712Z
UID:2753-1705433400-1705437000@pack751richardson.com
SUMMARY:January Parent Committee Meeting (Zoom)
DESCRIPTION:January Parent Committee Meeting\nTuesday\, January 16 · 7:30 – 8:30pm\nTime zone: America/Chicago\nGoogle Meet joining info\nVideo call link: https://meet.google.com/hgh-jjta-wki \nAgenda link  \nhttps://docs.google.com/document/d/1v5LWcqnsR4PpfrPBtVrF-gInuoMMr8G_/edit?usp=sharing&ouid=110019863462363225847&rtpof=true&sd=true
URL:https://pack751richardson.com/calendar-single-post-name/january-parent-committee-meeting-zoom/
END:VEVENT
BEGIN:VEVENT
DTSTART;TZID=America/Chicago:20240115T190000
DTEND;TZID=America/Chicago:20240115T200000
DTSTAMP:20260423T024310
CREATED:20240115T235518Z
LAST-MODIFIED:20240115T235518Z
UID:2786-1705345200-1705348800@pack751richardson.com
SUMMARY:April Parent Committee Meeting / Campout Prep
DESCRIPTION:
URL:https://pack751richardson.com/calendar-single-post-name/april-parent-committee-meeting-campout-prep/
LOCATION:FUMCR Ed-Room 225\, 503 N Central Expy\, Richardson\, 75080\, United States
END:VEVENT
BEGIN:VEVENT
DTSTART;TZID=America/Chicago:20240107T160000
DTEND;TZID=America/Chicago:20240107T170000
DTSTAMP:20260423T024310
CREATED:20240115T003600Z
LAST-MODIFIED:20240115T003600Z
UID:2757-1704643200-1704646800@pack751richardson.com
SUMMARY:Bears Den Meeting 8
DESCRIPTION:Forensics Adventure\, Leah’s house.
URL:https://pack751richardson.com/calendar-single-post-name/bears-den-meeting-8/
LOCATION:Glaser House\, 1435 Lamp Post Lane\, Richardson\, 75080\, United States
ORGANIZER;CN="Den 3 Bears":MAILTO:lashafer@gmail.com
END:VEVENT
BEGIN:VEVENT
DTSTART;TZID=America/Chicago:20231208T173000
DTEND;TZID=America/Chicago:20231208T193000
DTSTAMP:20260423T024310
CREATED:20230817T152324Z
LAST-MODIFIED:20230817T191139Z
UID:2403-1702056600-1702063800@pack751richardson.com
SUMMARY:Tigers Den Meeting 7
DESCRIPTION:End of year fun at Hapik Firewheel
URL:https://pack751richardson.com/calendar-single-post-name/tigers-den-meeting-7/
LOCATION:Hapik\, 550 Town Center Blvd.\, Garland\, TX\, 75040
END:VEVENT
BEGIN:VEVENT
DTSTART;TZID=America/Chicago:20231203T160000
DTEND;TZID=America/Chicago:20231203T170000
DTSTAMP:20260423T024310
CREATED:20230810T171155Z
LAST-MODIFIED:20230824T203802Z
UID:2196-1701619200-1701622800@pack751richardson.com
SUMMARY:Bears Den Meeting 7
DESCRIPTION:Location and adventure TBD.
URL:https://pack751richardson.com/calendar-single-post-name/bears-den-meeting-7/
ORGANIZER;CN="Den 3 Bears":MAILTO:lashafer@gmail.com
END:VEVENT
BEGIN:VEVENT
DTSTART;TZID=America/Chicago:20231201T180000
DTEND;TZID=America/Chicago:20231201T200000
DTSTAMP:20260423T024310
CREATED:20230801T053140Z
LAST-MODIFIED:20231128T004006Z
UID:1818-1701453600-1701460800@pack751richardson.com
SUMMARY:December Pack Meeting\, Achievements & AOL Crossover Event 2024
DESCRIPTION:
URL:https://pack751richardson.com/calendar-single-post-name/december-pack-meeting-2024/
LOCATION:FUMCR Coleman Hall\, 503 N Central Expy\, Richardson\, 75080\, United States
END:VEVENT
BEGIN:VEVENT
DTSTART;TZID=America/Chicago:20231126T140000
DTEND;TZID=America/Chicago:20231126T153000
DTSTAMP:20260423T024310
CREATED:20230817T151949Z
LAST-MODIFIED:20230817T151949Z
UID:2401-1701007200-1701012600@pack751richardson.com
SUMMARY:Tigers Den Meeting 6
DESCRIPTION:Adventure: Earning Your Stripes (elective) / catch up on missed requirements. Location is TBD
URL:https://pack751richardson.com/calendar-single-post-name/tigers-den-meeting-6/
END:VEVENT
BEGIN:VEVENT
DTSTART;TZID=America/Chicago:20231123T073000
DTEND;TZID=America/Chicago:20231123T100000
DTSTAMP:20260423T024310
CREATED:20230817T151759Z
LAST-MODIFIED:20230817T151759Z
UID:2398-1700724600-1700733600@pack751richardson.com
SUMMARY:Tigers Den Meeting 5
DESCRIPTION:North Texas Turkey Trot. This is the Miracle Mile Fun Run benefiting the Miracle League of Frisco (sports organization for special needs children ages 5-22) .
URL:https://pack751richardson.com/calendar-single-post-name/tigers-den-meeting-5/
LOCATION:Downtown Frisco\, 6101 Frisco Square Blvd.\, Frisco\, TX\, 75034
END:VEVENT
BEGIN:VEVENT
DTSTART;VALUE=DATE:20231123
DTEND;VALUE=DATE:20231124
DTSTAMP:20260423T024310
CREATED:20231010T150332Z
LAST-MODIFIED:20231010T150332Z
UID:2657-1700697600-1700783999@pack751richardson.com
SUMMARY:Thanksgiving 2023
DESCRIPTION:
URL:https://pack751richardson.com/calendar-single-post-name/thanksgiving-2023/
END:VEVENT
BEGIN:VEVENT
DTSTART;TZID=America/Chicago:20231120T190000
DTEND;TZID=America/Chicago:20231120T200000
DTSTAMP:20260423T024310
CREATED:20230911T231030Z
LAST-MODIFIED:20230911T231136Z
UID:2538-1700506800-1700510400@pack751richardson.com
SUMMARY:AOL Virtual Parent Meeting 1 (2023)
DESCRIPTION:Focus:  Parents discuss Troops\, Scouts BSA plan\, and Crossover \nKatherine will email Microsoft Teams link at 6:00pm.
URL:https://pack751richardson.com/calendar-single-post-name/aol-virtual-parent-meeting-1-2023/
END:VEVENT
BEGIN:VEVENT
DTSTART;TZID=UTC:20231118T083000
DTEND;TZID=UTC:20231118T110000
DTSTAMP:20260423T024310
CREATED:20230801T052438Z
LAST-MODIFIED:20231010T145154Z
UID:1809-1700296200-1700305200@pack751richardson.com
SUMMARY:Veterans Day Flag Retrieval 2023
DESCRIPTION:We come together as a Pack throughout the year to place flags with the Rotary Club Richardson and then take them down. For flag retrieval\,  we meet at ACM at 8:30 AM\, get maps\, and drive around locally to retrieve flags. Please sign up to help: https://www.signupgenius.com/go/8050848a8ac2ea3fb6-2023?useFullSite=true#/ \nResponsible Den: Bears
URL:https://pack751richardson.com/calendar-single-post-name/veterans-day-flag-retrieval-2023/
LOCATION:Arapaho Classical Magnet\, 1300 Cypress Dr.\, Richardson\, TX\, 75080\, United States
END:VEVENT
BEGIN:VEVENT
DTSTART;TZID=America/Chicago:20231117T170000
DTEND;TZID=America/Chicago:20231119T170000
DTSTAMP:20260423T024310
CREATED:20230912T011944Z
LAST-MODIFIED:20230912T011944Z
UID:2565-1700240400-1700413200@pack751richardson.com
SUMMARY:AOL Troop Campout 2 (Webelos Woods) (2023)
DESCRIPTION:Camping with T1001 for Webelos Woods. \nClick here for additional information and registration. \nMore information will be provided as we get closer. \n 
URL:https://pack751richardson.com/calendar-single-post-name/aol-troop-campout-2-webelos-woods-2023/
LOCATION:Trinity Bible Church\, 400 W Campbell Rd\, Richardson\, TX\, 75080\, United States
END:VEVENT
BEGIN:VEVENT
DTSTART;VALUE=DATE:20231115
DTEND;VALUE=DATE:20231116
DTSTAMP:20260423T024310
CREATED:20230801T052940Z
LAST-MODIFIED:20230801T052940Z
UID:1816-1700006400-1700092799@pack751richardson.com
SUMMARY:Recharter Fees Due to Pack
DESCRIPTION:
URL:https://pack751richardson.com/calendar-single-post-name/recharter-fees-due-to-pack/
END:VEVENT
BEGIN:VEVENT
DTSTART;TZID=America/Chicago:20231114T190000
DTEND;TZID=America/Chicago:20231114T203000
DTSTAMP:20260423T024310
CREATED:20230801T052811Z
LAST-MODIFIED:20231104T211456Z
UID:1814-1699988400-1699993800@pack751richardson.com
SUMMARY:November Parent Committee Meeting 2023 (In-person)
DESCRIPTION:
URL:https://pack751richardson.com/calendar-single-post-name/november-parent-committee-meeting-2023/
LOCATION:FUMCR Ed-Room 225\, 503 N Central Expy\, Richardson\, 75080\, United States
END:VEVENT
BEGIN:VEVENT
DTSTART;TZID=America/Chicago:20231113T190000
DTEND;TZID=America/Chicago:20231113T203000
DTSTAMP:20260423T024310
CREATED:20230912T005416Z
LAST-MODIFIED:20230912T010049Z
UID:2550-1699902000-1699907400@pack751richardson.com
SUMMARY:AOL Planning for Troop Campout 2 (Webelos Woods) (2023)
DESCRIPTION:Planning meeting with T1001 for Webelos Woods. \nWear Field Uniform (tan shirt/green shorts). \n 
URL:https://pack751richardson.com/calendar-single-post-name/aol-webelos-woods-troop-campout-2-2023/
LOCATION:Trinity Bible Church\, 400 W Campbell Rd\, Richardson\, TX\, 75080\, United States
END:VEVENT
BEGIN:VEVENT
DTSTART;TZID=America/Chicago:20231112T160000
DTEND;TZID=America/Chicago:20231112T170000
DTSTAMP:20260423T024310
CREATED:20230805T233900Z
LAST-MODIFIED:20230824T203725Z
UID:1913-1699804800-1699808400@pack751richardson.com
SUMMARY:Bears Den Meeting 6
DESCRIPTION:Location and adventures TBD
URL:https://pack751richardson.com/calendar-single-post-name/bears-den-meeting-6/
ORGANIZER;CN="Den 3 Bears":MAILTO:lashafer@gmail.com
END:VEVENT
BEGIN:VEVENT
DTSTART;TZID=America/Chicago:20231110T183000
DTEND;TZID=America/Chicago:20231110T193000
DTSTAMP:20260423T024310
CREATED:20230801T052151Z
LAST-MODIFIED:20231006T152727Z
UID:1805-1699641000-1699644600@pack751richardson.com
SUMMARY:Rain Gutter Regatta 2023
DESCRIPTION:ACM Cafeteria \nThe raingutter regatta is a racing event for Cub Scouts in the Boy Scouts of America that is the sailboat equivalent of the pinewood derby. The sailboat kit consists of a seven-inch (178 mm) long balsa wood hull\, a 6+1⁄2-inch mast\, plastic sail\, plastic rudder\, and metal keel. Within the basic design rules\, Scouts are free to paint and decorate their sailboats as they choose. Modifications for speed include the placement of the keel and rudder and the size\, shape and location of the sail. A catamaran is an exceptionally fast design\, although this modification is not allowed in all races. \nThe boats are raced in a standard rain gutter that is ten feet long\, placed on a table or saw horses\, and filled to the top with water. The boats are propelled by blowing on the sail\, either directly or through a drinking straw; the boat cannot be touched with hands or the straw. The first boat to reach the end of the gutter is the winner. The overall winner is determined by an elimination system.
URL:https://pack751richardson.com/calendar-single-post-name/rain-gutter-regatta-2023/
LOCATION:Arapaho Classical Magnet\, 1300 Cypress Dr.\, Richardson\, TX\, 75080\, United States
END:VEVENT
END:VCALENDAR