BEGIN:VCALENDAR
VERSION:2.0
PRODID:-//Pack 751 Richardson - ECPv6.15.20//NONSGML v1.0//EN
CALSCALE:GREGORIAN
METHOD:PUBLISH
X-WR-CALNAME:Pack 751 Richardson
X-ORIGINAL-URL:https://pack751richardson.com
X-WR-CALDESC:Events for Pack 751 Richardson
REFRESH-INTERVAL;VALUE=DURATION:PT1H
X-Robots-Tag:noindex
X-PUBLISHED-TTL:PT1H
BEGIN:VTIMEZONE
TZID:America/Chicago
BEGIN:DAYLIGHT
TZOFFSETFROM:-0600
TZOFFSETTO:-0500
TZNAME:CDT
DTSTART:20230312T080000
END:DAYLIGHT
BEGIN:STANDARD
TZOFFSETFROM:-0500
TZOFFSETTO:-0600
TZNAME:CST
DTSTART:20231105T070000
END:STANDARD
BEGIN:DAYLIGHT
TZOFFSETFROM:-0600
TZOFFSETTO:-0500
TZNAME:CDT
DTSTART:20240310T080000
END:DAYLIGHT
BEGIN:STANDARD
TZOFFSETFROM:-0500
TZOFFSETTO:-0600
TZNAME:CST
DTSTART:20241103T070000
END:STANDARD
BEGIN:DAYLIGHT
TZOFFSETFROM:-0600
TZOFFSETTO:-0500
TZNAME:CDT
DTSTART:20250309T080000
END:DAYLIGHT
BEGIN:STANDARD
TZOFFSETFROM:-0500
TZOFFSETTO:-0600
TZNAME:CST
DTSTART:20251102T070000
END:STANDARD
END:VTIMEZONE
BEGIN:VTIMEZONE
TZID:America/Chicago
BEGIN:DAYLIGHT
TZOFFSETFROM:-0600
TZOFFSETTO:-0500
TZNAME:CDT
DTSTART:20230312T080000
END:DAYLIGHT
BEGIN:STANDARD
TZOFFSETFROM:-0500
TZOFFSETTO:-0600
TZNAME:CST
DTSTART:20231105T070000
END:STANDARD
BEGIN:DAYLIGHT
TZOFFSETFROM:-0600
TZOFFSETTO:-0500
TZNAME:CDT
DTSTART:20240310T080000
END:DAYLIGHT
BEGIN:STANDARD
TZOFFSETFROM:-0500
TZOFFSETTO:-0600
TZNAME:CST
DTSTART:20241103T070000
END:STANDARD
BEGIN:DAYLIGHT
TZOFFSETFROM:-0600
TZOFFSETTO:-0500
TZNAME:CDT
DTSTART:20250309T080000
END:DAYLIGHT
BEGIN:STANDARD
TZOFFSETFROM:-0500
TZOFFSETTO:-0600
TZNAME:CST
DTSTART:20251102T070000
END:STANDARD
END:VTIMEZONE
BEGIN:VTIMEZONE
TZID:America/New_York
BEGIN:DAYLIGHT
TZOFFSETFROM:-0500
TZOFFSETTO:-0400
TZNAME:EDT
DTSTART:20230312T070000
END:DAYLIGHT
BEGIN:STANDARD
TZOFFSETFROM:-0400
TZOFFSETTO:-0500
TZNAME:EST
DTSTART:20231105T060000
END:STANDARD
BEGIN:DAYLIGHT
TZOFFSETFROM:-0500
TZOFFSETTO:-0400
TZNAME:EDT
DTSTART:20240310T070000
END:DAYLIGHT
BEGIN:STANDARD
TZOFFSETFROM:-0400
TZOFFSETTO:-0500
TZNAME:EST
DTSTART:20241103T060000
END:STANDARD
BEGIN:DAYLIGHT
TZOFFSETFROM:-0500
TZOFFSETTO:-0400
TZNAME:EDT
DTSTART:20250309T070000
END:DAYLIGHT
BEGIN:STANDARD
TZOFFSETFROM:-0400
TZOFFSETTO:-0500
TZNAME:EST
DTSTART:20251102T060000
END:STANDARD
END:VTIMEZONE
BEGIN:VEVENT
DTSTART;TZID=America/Chicago:20240908T160000
DTEND;TZID=America/Chicago:20240908T170000
DTSTAMP:20260423T012942
CREATED:20240819T084640Z
LAST-MODIFIED:20240819T084651Z
UID:3056-1725811200-1725814800@pack751richardson.com
SUMMARY:Webelos Meeting 2
DESCRIPTION:More info TK.
URL:https://pack751richardson.com/calendar-single-post-name/webelos-meeting-2/
END:VEVENT
BEGIN:VEVENT
DTSTART;TZID=America/Chicago:20240827T190000
DTEND;TZID=America/Chicago:20240827T200000
DTSTAMP:20260423T012942
CREATED:20240808T033457Z
LAST-MODIFIED:20240826T145013Z
UID:2982-1724785200-1724788800@pack751richardson.com
SUMMARY:August Parent Committee Meeting (Zoom) 2024
DESCRIPTION:Zoom link TBD
URL:https://pack751richardson.com/calendar-single-post-name/august-parent-committee-meeting-zoom-2024/
END:VEVENT
BEGIN:VEVENT
DTSTART;TZID=America/Chicago:20240825T160000
DTEND;TZID=America/Chicago:20240825T170000
DTSTAMP:20260423T012942
CREATED:20240819T084526Z
LAST-MODIFIED:20240819T084526Z
UID:3054-1724601600-1724605200@pack751richardson.com
SUMMARY:Webelos Meeting 1
DESCRIPTION:We will meet at Leah’s house and work on the prep parts of the “Let’s Camp” adventure\, as well as some of “Stronger\, Faster\, Higher.” Please look over Bobcat requirements as we’ll quiz on those.
URL:https://pack751richardson.com/calendar-single-post-name/webelos-meeting-1/
LOCATION:Glaser House\, 1435 Lamp Post Lane\, Richardson\, 75080\, United States
END:VEVENT
BEGIN:VEVENT
DTSTART;VALUE=DATE:20240816
DTEND;VALUE=DATE:20240817
DTSTAMP:20260423T012942
CREATED:20240812T174137Z
LAST-MODIFIED:20250901T230039Z
UID:2994-1723766400-1723852799@pack751richardson.com
SUMMARY:Popcorn Sales begin (online sales available year-round)
DESCRIPTION:
URL:https://pack751richardson.com/calendar-single-post-name/popcorn-sales-begin-online-sales-available-year-round/
END:VEVENT
BEGIN:VEVENT
DTSTART;TZID=America/Chicago:20240815T190000
DTEND;TZID=America/Chicago:20240815T203000
DTSTAMP:20260423T012942
CREATED:20240812T173948Z
LAST-MODIFIED:20240813T163719Z
UID:2992-1723748400-1723753800@pack751richardson.com
SUMMARY:Northern Trail Recharter Roundtable & SNFS Training
DESCRIPTION:
URL:https://pack751richardson.com/calendar-single-post-name/northern-trail-recharter-roundtable-snfs-training/
LOCATION:FUMCR Ed-Room 225\, 503 N Central Expy\, Richardson\, 75080\, United States
END:VEVENT
BEGIN:VEVENT
DTSTART;TZID=America/Chicago:20240630T160000
DTEND;TZID=America/Chicago:20240630T180000
DTSTAMP:20260423T012942
CREATED:20240610T161820Z
LAST-MODIFIED:20240621T225704Z
UID:2905-1719763200-1719770400@pack751richardson.com
SUMMARY:Webelos Den Meeting
DESCRIPTION:Pool party at the Mettauer house!
URL:https://pack751richardson.com/calendar-single-post-name/webelos-den-meeting/
END:VEVENT
BEGIN:VEVENT
DTSTART;TZID=America/Chicago:20240519T100000
DTEND;TZID=America/Chicago:20240519T130000
DTSTAMP:20260423T012942
CREATED:20240304T203539Z
LAST-MODIFIED:20240304T203539Z
UID:2883-1716112800-1716123600@pack751richardson.com
SUMMARY:Lion/Tiger Den Celebration
DESCRIPTION:pending spring sports schedules and weather – may adjust time
URL:https://pack751richardson.com/calendar-single-post-name/lion-tiger-den-celebration/
LOCATION:Mettauer House\, 7216 Arbor Oaks Dr.\, Dallas\, TX\, 75248\, United States
END:VEVENT
BEGIN:VEVENT
DTSTART;TZID=America/Chicago:20240517T180000
DTEND;TZID=America/Chicago:20240517T200000
DTSTAMP:20260423T012942
CREATED:20230801T060049Z
LAST-MODIFIED:20240501T230107Z
UID:1847-1715968800-1715976000@pack751richardson.com
SUMMARY:Pack Achievement Ceremony & Dinner 2024
DESCRIPTION:Catered by Holy Frijoles – please RSVP by 5/15 to your den leader. Each plate is $11.75; watch your email for a Square link from the Pack.
URL:https://pack751richardson.com/calendar-single-post-name/pack-achievement-ceremony-dinner-2024/
LOCATION:FUMCR Coleman Hall\, 503 N Central Expy\, Richardson\, 75080\, United States
END:VEVENT
BEGIN:VEVENT
DTSTART;TZID=America/Chicago:20240511T100000
DTEND;TZID=America/Chicago:20240511T110000
DTSTAMP:20260423T012942
CREATED:20240304T203415Z
LAST-MODIFIED:20240304T203415Z
UID:2881-1715421600-1715425200@pack751richardson.com
SUMMARY:Lion/Tiger Den Meeting
DESCRIPTION:**depending on spring sports schedules\, may need to adjust the time.
URL:https://pack751richardson.com/calendar-single-post-name/lion-tiger-den-meeting-3/
LOCATION:Mettauer House\, 7216 Arbor Oaks Dr.\, Dallas\, TX\, 75248\, United States
END:VEVENT
BEGIN:VEVENT
DTSTART;TZID=America/New_York:20240507T190000
DTEND;TZID=America/New_York:20240507T200000
DTSTAMP:20260423T012942
CREATED:20230801T055341Z
LAST-MODIFIED:20230821T220850Z
UID:1841-1715108400-1715112000@pack751richardson.com
SUMMARY:May Parent Committee Meeting (Zoom) 2024
DESCRIPTION:Zoom link TBD
URL:https://pack751richardson.com/calendar-single-post-name/may-parent-committee-meeting-zoom-2024/
END:VEVENT
BEGIN:VEVENT
DTSTART;TZID=America/Chicago:20240505T160000
DTEND;TZID=America/Chicago:20240505T170000
DTSTAMP:20260423T012942
CREATED:20240115T004441Z
LAST-MODIFIED:20240501T230335Z
UID:2777-1714924800-1714928400@pack751richardson.com
SUMMARY:Bears End-of-Year Celebration
DESCRIPTION:Location and adventure TBD.
URL:https://pack751richardson.com/calendar-single-post-name/bears-den-meeting-16/
ORGANIZER;CN="Den 3 Bears":MAILTO:lashafer@gmail.com
END:VEVENT
BEGIN:VEVENT
DTSTART;TZID=America/Chicago:20240505T130000
DTEND;TZID=America/Chicago:20240505T160000
DTSTAMP:20260423T012942
CREATED:20240116T151339Z
LAST-MODIFIED:20240426T012839Z
UID:2806-1714914000-1714924800@pack751richardson.com
SUMMARY:Wolves Den Meeting
DESCRIPTION:
URL:https://pack751richardson.com/calendar-single-post-name/wolves-den-meeting-7/
END:VEVENT
BEGIN:VEVENT
DTSTART;TZID=America/Chicago:20240428T160000
DTEND;TZID=America/Chicago:20240428T170000
DTSTAMP:20260423T012942
CREATED:20240115T004411Z
LAST-MODIFIED:20240330T153335Z
UID:2775-1714320000-1714323600@pack751richardson.com
SUMMARY:Bears Den Meeting 15
DESCRIPTION:Location and adventure TBD.
URL:https://pack751richardson.com/calendar-single-post-name/bears-den-meeting-15/
ORGANIZER;CN="Den 3 Bears":MAILTO:lashafer@gmail.com
END:VEVENT
BEGIN:VEVENT
DTSTART;TZID=America/New_York:20240419T153000
DTEND;TZID=America/New_York:20240421T130000
DTSTAMP:20260423T012942
CREATED:20230801T055230Z
LAST-MODIFIED:20240220T193905Z
UID:1839-1713540600-1713704400@pack751richardson.com
SUMMARY:Spring Family Campout 2024
DESCRIPTION:Fish N Fun Day\nApril 20\, 2024 \n-with- \nParent N Pal Weekend \n  \nRegistration Estimated to open late February \nhttps://scoutingevent.com/571-2024PNPFishNFunDay \nYou and your family can participate in horseback riding (2nd grade +)\, fishing\, BB guns (1st grade +)\, games\, bows and arrows\, and MUCH\, MUCH\, MORE! \nEvent Details: \n\nTBD\n\nCost \n\nTBD per person\nCancellations: All cancellations must follow the cancellation & refund policy\n\nRequired information \n\nFirst and last names\nGender\nDietary restrictions\nEmergency contact information\n\nDocumentation required at check-in \n\nUnit roster: one per registration or group arriving together\nAnnual Medical Health Record parts A & B\n\nWho can attend \n\nFish N Fun Day: All Cub Scouts (parents\, grandparents\, uncles\, aunts\, siblings) and anyone who wants to join scouting!)\nParent N Pal: All Cub Scouts with parents\n\nLocation \n\nClements Scout Ranch/Trevor Rees-Jones Scout Camp\, 11217 FM 2970\, Athens\, TX 75751\n\n  \nAll youth must attend with an adult. You will get a pop-up to add adults to your youth registration.  \nSee event link and map at https://pack751richardson.com/calendar-single-post-name/spring-family-campout-2024/. \n 
URL:https://pack751richardson.com/calendar-single-post-name/spring-family-campout-2024/
LOCATION:BSA Camp Treavor Rees-Jones\, 11217 FM 2970\, Athens\, Texas\, 75751
END:VEVENT
BEGIN:VEVENT
DTSTART;TZID=America/Chicago:20240414T080000
DTEND;TZID=America/Chicago:20240414T170000
DTSTAMP:20260423T012942
CREATED:20240304T203046Z
LAST-MODIFIED:20240304T203046Z
UID:2878-1713081600-1713114000@pack751richardson.com
SUMMARY:Lion/Tiger Den Meeting
DESCRIPTION:planning hike and discussion on campout/fishing the following weekend – location TBD
URL:https://pack751richardson.com/calendar-single-post-name/lion-tiger-den-meeting-2/
END:VEVENT
BEGIN:VEVENT
DTSTART;TZID=America/Chicago:20240413T140000
DTEND;TZID=America/Chicago:20240413T160000
DTSTAMP:20260423T012942
CREATED:20240116T150235Z
LAST-MODIFIED:20240116T150235Z
UID:2804-1713016800-1713024000@pack751richardson.com
SUMMARY:Wolves Den Meeting
DESCRIPTION:
URL:https://pack751richardson.com/calendar-single-post-name/wolves-den-meeting-6/
END:VEVENT
BEGIN:VEVENT
DTSTART;TZID=America/Chicago:20240409T190000
DTEND;TZID=America/Chicago:20240409T200000
DTSTAMP:20260423T012942
CREATED:20240116T183056Z
LAST-MODIFIED:20240116T183056Z
UID:2808-1712689200-1712692800@pack751richardson.com
SUMMARY:April Parent Committee Meeting @ FUMCR Ed-Room 225
DESCRIPTION:Fall Camp Out Planning
URL:https://pack751richardson.com/calendar-single-post-name/april-parent-committee-meeting-fumcr-ed-room-225/
LOCATION:FUMCR Ed-Room 225\, 503 N Central Expy\, Richardson\, 75080\, United States
END:VEVENT
BEGIN:VEVENT
DTSTART;TZID=America/Chicago:20240407T160000
DTEND;TZID=America/Chicago:20240407T170000
DTSTAMP:20260423T012942
CREATED:20240115T004230Z
LAST-MODIFIED:20240330T153145Z
UID:2773-1712505600-1712509200@pack751richardson.com
SUMMARY:Bears Den Meeting 14
DESCRIPTION:Location and adventure TBD.
URL:https://pack751richardson.com/calendar-single-post-name/bears-den-meeting-14/
ORGANIZER;CN="Den 3 Bears":MAILTO:lashafer@gmail.com
END:VEVENT
BEGIN:VEVENT
DTSTART;TZID=America/Chicago:20240326T190000
DTEND;TZID=America/Chicago:20240326T200000
DTSTAMP:20260423T012942
CREATED:20230801T054525Z
LAST-MODIFIED:20240319T143622Z
UID:1835-1711479600-1711483200@pack751richardson.com
SUMMARY:March Parent Committee Meeting (Zoom) 2024
DESCRIPTION:Zoom link TBD
URL:https://pack751richardson.com/calendar-single-post-name/march-parent-committee-meeting-zoom-2024/
END:VEVENT
BEGIN:VEVENT
DTSTART;TZID=America/Chicago:20240324T140000
DTEND;TZID=America/Chicago:20240324T150000
DTSTAMP:20260423T012942
CREATED:20240304T202449Z
LAST-MODIFIED:20240304T202449Z
UID:2875-1711288800-1711292400@pack751richardson.com
SUMMARY:Lion/Tiger Den Meeting
DESCRIPTION:*depending on participation at Trusted World Day\, may cancel meeting
URL:https://pack751richardson.com/calendar-single-post-name/lion-tiger-den-meeting/
LOCATION:Bowie Elementary Pavilion\, 7643 La Manga Dr.\, Dallas\, TX\, 75248\, United States
END:VEVENT
BEGIN:VEVENT
DTSTART;TZID=America/Chicago:20240323T140000
DTEND;TZID=America/Chicago:20240323T160000
DTSTAMP:20260423T012942
CREATED:20240116T145935Z
LAST-MODIFIED:20240116T150152Z
UID:2802-1711202400-1711209600@pack751richardson.com
SUMMARY:Wolves Den Meeting
DESCRIPTION:
URL:https://pack751richardson.com/calendar-single-post-name/wolves-den-meeting-5/
END:VEVENT
BEGIN:VEVENT
DTSTART;TZID=America/Chicago:20240317T160000
DTEND;TZID=America/Chicago:20240317T170000
DTSTAMP:20260423T012942
CREATED:20240115T004141Z
LAST-MODIFIED:20240115T004141Z
UID:2771-1710691200-1710694800@pack751richardson.com
SUMMARY:Bears Den Meeting 13
DESCRIPTION:Location and adventure TBD.
URL:https://pack751richardson.com/calendar-single-post-name/bears-den-meeting-13/
ORGANIZER;CN="Den 3 Bears":MAILTO:lashafer@gmail.com
END:VEVENT
BEGIN:VEVENT
DTSTART;TZID=America/Chicago:20240317T140000
DTEND;TZID=America/Chicago:20240317T150000
DTSTAMP:20260423T012942
CREATED:20240304T202157Z
LAST-MODIFIED:20240304T202157Z
UID:2873-1710684000-1710687600@pack751richardson.com
SUMMARY:Tiger/Lion Den Meeting
DESCRIPTION:If poor weather\, will meet at the Mettauer house. 7216 Arbor Oaks
URL:https://pack751richardson.com/calendar-single-post-name/tiger-lion-den-meeting/
LOCATION:Bowie Elementary Pavilion\, 7643 La Manga Dr.\, Dallas\, TX\, 75248\, United States
END:VEVENT
BEGIN:VEVENT
DTSTART;VALUE=DATE:20240311
DTEND;VALUE=DATE:20240316
DTSTAMP:20260423T012942
CREATED:20230926T223500Z
LAST-MODIFIED:20230926T223500Z
UID:2628-1710115200-1710547199@pack751richardson.com
SUMMARY:ACM Spring Break 2024
DESCRIPTION:
URL:https://pack751richardson.com/calendar-single-post-name/acm-spring-break-2024/
END:VEVENT
BEGIN:VEVENT
DTSTART;TZID=America/Chicago:20240309T090000
DTEND;TZID=America/Chicago:20240309T120000
DTSTAMP:20260423T012942
CREATED:20240304T195842Z
LAST-MODIFIED:20240304T195842Z
UID:2868-1709974800-1709985600@pack751richardson.com
SUMMARY:Lion/Tiger Volunteer Day
DESCRIPTION:Please join us at the Spring work day at the Episcopal Church of the Epiphany – right across from FUMCR. We will be cleaning up the gardens and planting additional plants. \nWear close toed shoes and class B uniform. I will provide additional water to fill your reusable water bottle and snacks. \nFeel free to come for any amount of time that works for your schedule.
URL:https://pack751richardson.com/calendar-single-post-name/lion-tiger-volunteer-day/
LOCATION:Episcopal Church of the Epiphany\, 421 Custer Road\, Richardson\, Texas\, 75080
END:VEVENT
BEGIN:VEVENT
DTSTART;TZID=America/Chicago:20240303T160000
DTEND;TZID=America/Chicago:20240303T170000
DTSTAMP:20260423T012942
CREATED:20240115T004057Z
LAST-MODIFIED:20240115T004057Z
UID:2769-1709481600-1709485200@pack751richardson.com
SUMMARY:Bears Den Meeting 12
DESCRIPTION:Location and adventure TBD.
URL:https://pack751richardson.com/calendar-single-post-name/bears-den-meeting-12/
ORGANIZER;CN="Den 3 Bears":MAILTO:lashafer@gmail.com
END:VEVENT
BEGIN:VEVENT
DTSTART;TZID=America/Chicago:20240302T140000
DTEND;TZID=America/Chicago:20240302T160000
DTSTAMP:20260423T012942
CREATED:20240116T145326Z
LAST-MODIFIED:20240116T145452Z
UID:2799-1709388000-1709395200@pack751richardson.com
SUMMARY:Wolves Den Meeting
DESCRIPTION:
URL:https://pack751richardson.com/calendar-single-post-name/wolves-den-meeting-4/
END:VEVENT
BEGIN:VEVENT
DTSTART;TZID=America/Chicago:20240301T174500
DTEND;TZID=America/Chicago:20240301T193000
DTSTAMP:20260423T012942
CREATED:20230801T054142Z
LAST-MODIFIED:20240221T013122Z
UID:1832-1709315100-1709321400@pack751richardson.com
SUMMARY:Bike Rodeo 2024
DESCRIPTION:Join us in the First UMC parking lot for an annual tradition\, our bike rodeo. More information to come closer to the event date.
URL:https://pack751richardson.com/calendar-single-post-name/bike-rodeo-2024/
LOCATION:FUMCR Ed-Room 225\, 503 N Central Expy\, Richardson\, 75080\, United States
END:VEVENT
BEGIN:VEVENT
DTSTART;TZID=America/Chicago:20240225T083000
DTEND;TZID=America/Chicago:20240225T120000
DTSTAMP:20260423T012942
CREATED:20240216T203107Z
LAST-MODIFIED:20240220T194208Z
UID:2838-1708849800-1708862400@pack751richardson.com
SUMMARY:Scout Sunday FUMCR 2024
DESCRIPTION:Scout Sunday is February 25 at First United Methodist Church\, Richardson! FUMCR is a great partner and host for our pack\, so let’s support the day with a great show. Our scouts will help by being door greeters\, passing out service bulletins and assisting ushers during the service. There are four services (8:45am\, 9:45am\, and two at 11am) to support. Please wear your full class A/field uniform for this day and plan to show up about 25 minutes prior to the service start time to help. Please consider joining for the entire morning or for the service that fits your schedule best. I’d like to see us have at least 10 scouts for each service. A scout is reverent! \nhttps://www.signupgenius.com/go/20F054EAFAA2FABF85-48023775-scout
URL:https://pack751richardson.com/calendar-single-post-name/scout-sunday-fumcr/
LOCATION:FUMCR Coleman Hall\, 503 N Central Expy\, Richardson\, 75080\, United States
END:VEVENT
BEGIN:VEVENT
DTSTART;TZID=America/Chicago:20240220T190000
DTEND;TZID=America/Chicago:20240220T200000
DTSTAMP:20260423T012942
CREATED:20230801T053843Z
LAST-MODIFIED:20240117T023440Z
UID:1828-1708455600-1708459200@pack751richardson.com
SUMMARY:February Parent Committee Meeting @ FUMCR Ed-Room 225
DESCRIPTION:
URL:https://pack751richardson.com/calendar-single-post-name/february-parent-committee-meeting-zoom-2024/
LOCATION:FUMCR Ed-Room 225\, 503 N Central Expy\, Richardson\, 75080\, United States
END:VEVENT
END:VCALENDAR