BEGIN:VCALENDAR
VERSION:2.0
PRODID:-//Pack 751 Richardson - ECPv6.15.20//NONSGML v1.0//EN
CALSCALE:GREGORIAN
METHOD:PUBLISH
X-WR-CALNAME:Pack 751 Richardson
X-ORIGINAL-URL:https://pack751richardson.com
X-WR-CALDESC:Events for Pack 751 Richardson
REFRESH-INTERVAL;VALUE=DURATION:PT1H
X-Robots-Tag:noindex
X-PUBLISHED-TTL:PT1H
BEGIN:VTIMEZONE
TZID:America/Chicago
BEGIN:DAYLIGHT
TZOFFSETFROM:-0600
TZOFFSETTO:-0500
TZNAME:CDT
DTSTART:20240310T080000
END:DAYLIGHT
BEGIN:STANDARD
TZOFFSETFROM:-0500
TZOFFSETTO:-0600
TZNAME:CST
DTSTART:20241103T070000
END:STANDARD
BEGIN:DAYLIGHT
TZOFFSETFROM:-0600
TZOFFSETTO:-0500
TZNAME:CDT
DTSTART:20250309T080000
END:DAYLIGHT
BEGIN:STANDARD
TZOFFSETFROM:-0500
TZOFFSETTO:-0600
TZNAME:CST
DTSTART:20251102T070000
END:STANDARD
BEGIN:DAYLIGHT
TZOFFSETFROM:-0600
TZOFFSETTO:-0500
TZNAME:CDT
DTSTART:20260308T080000
END:DAYLIGHT
BEGIN:STANDARD
TZOFFSETFROM:-0500
TZOFFSETTO:-0600
TZNAME:CST
DTSTART:20261101T070000
END:STANDARD
END:VTIMEZONE
BEGIN:VEVENT
DTSTART;VALUE=DATE:20251108
DTEND;VALUE=DATE:20251110
DTSTAMP:20260422T143529
CREATED:20250810T191402Z
LAST-MODIFIED:20250810T191402Z
UID:3230-1762560000-1762732799@pack751richardson.com
SUMMARY:Wood Badge 147 #2
DESCRIPTION:2025 Wood Badge 147 \n  \n\n\n\nWood Badge 147\nTrevor Rees-Jones Scout Camp\nWeekend I: October 24 – 26\nWeekend II: November 8 – 9\n\n\n\nWood Badge is Scouting America’s ultimate leadership training designed to meet the advanced leadership needs of Scouters. \nWood Badge brings together leaders from all areas of Scouting – Cub Scouting\, Scouts BSA\, Sea Scouts\, and Venturing. Our mission is to inspire and train adults through world class leadership training that sets an example for youth emporwerment. \nCircle Ten Council offers three Wood Badge courses in 2025 to meet the varying schedules and needs of our volunteers. In 2025\, there is a spring\, summer\, and fall course so you may choose the time of year that works best for you. \nThree great locations: Our spring course is offered at Camp Wisdom\, our summer course is offered at Philmont Scout Ranch in New Mexico\, and our fall course is offered at Trevor Rees-Jones Scout Camp. \nTwo convenient schedules: Our spring and fall courses are offered over two weekends (Friday\, Saturday\, and Sunday) to minimize time away from work. The summer course at Philmont offers a week-long experience away from the Texas heat. \nRequirements for attending Wood Badge: \n\nBe registered members of Scouting America and age 18 or older.\nHave completed the basic position-specific training courses for their Scouting role.\nBe capable of functioning safely in an outdoor environment. All participants are required to complete the Annual Health and Medical Record. Parts A\, B\, and C are required which includes a physical. Part C is required for everyone.\n\n\n\n\nWOOD BADGE 147\nTrevor Rees-Jones Scout Camp\n– Weekend 1: Friday\, October 24 at 7:00 a.m. – Sunday\, October 26 at 5:00 p.m.\n– Weekend 2: Saturday\, November 8 at 7:00 a.m. – Sunday\, November 9 at 5:00 p.m.\n– Registration Closes: Friday\, October 17 at 11:00 p.m.\n  This is the last date to register or make changes to your registration. Walk-ins are not accepted.  \nCost\nAdult Participant: $300\n– Initial Payment: at least $150 due upon registration.\n– Final Payment: balance due by 10/6/2025 at 11:59 p.m.\n– Late Payment: Cost increases to $345 on 10/07/2025 at 12:00 a.m. if registration not paid in full. Must be paid in full to attend course. \n\n\n\nRequired Information\nThe following information will be requested during registration: \n\nScouting Information: Unit Type and Number\, Scouting America Member Number\nPersonal Information: First and Last Name\, Name to be used on Nametag; Gender\nCell phone number\, Email Address\nMedical: Allergies and Dietary Restrictions\nEmergency Contact: Name\, Phone\, Email\nAgree to the requirements for attending Wood Badge\n\nDocumentation Required at Check-In:\nAll required documents are under “Attachments” \n\nAnnual Medical Health Record ABC\n\nCancellation & Refund Policy\nPlease review the Circle Ten Council Cancellation & Refund Policy under “Attachments” for our cancellation policy. \nContact \n\nCourse Director: Mark Blackhurst\, wb147@circletencouncil.org\nStaff Advisor: Jamel Holmes\, jamel.holmes@scouting.org\nRegistration Assistance: Paula Bramble\, paula.bramble@scouting.org
URL:https://pack751richardson.com/calendar-single-post-name/wood-badge-147-2/
LOCATION:Trevor Rees-Jones Scout Camp\, BSA Trevor Rees-Jones Scout Camp\, Camp Trevor Rees - Jones\, Athens\, TX\, 75751\, United States
END:VEVENT
END:VCALENDAR