BEGIN:VCALENDAR
VERSION:2.0
PRODID:-//Pack 751 Richardson - ECPv6.15.20//NONSGML v1.0//EN
CALSCALE:GREGORIAN
METHOD:PUBLISH
X-ORIGINAL-URL:https://pack751richardson.com
X-WR-CALDESC:Events for Pack 751 Richardson
REFRESH-INTERVAL;VALUE=DURATION:PT1H
X-Robots-Tag:noindex
X-PUBLISHED-TTL:PT1H
BEGIN:VTIMEZONE
TZID:America/Chicago
BEGIN:DAYLIGHT
TZOFFSETFROM:-0600
TZOFFSETTO:-0500
TZNAME:CDT
DTSTART:20240310T080000
END:DAYLIGHT
BEGIN:STANDARD
TZOFFSETFROM:-0500
TZOFFSETTO:-0600
TZNAME:CST
DTSTART:20241103T070000
END:STANDARD
BEGIN:DAYLIGHT
TZOFFSETFROM:-0600
TZOFFSETTO:-0500
TZNAME:CDT
DTSTART:20250309T080000
END:DAYLIGHT
BEGIN:STANDARD
TZOFFSETFROM:-0500
TZOFFSETTO:-0600
TZNAME:CST
DTSTART:20251102T070000
END:STANDARD
BEGIN:DAYLIGHT
TZOFFSETFROM:-0600
TZOFFSETTO:-0500
TZNAME:CDT
DTSTART:20260308T080000
END:DAYLIGHT
BEGIN:STANDARD
TZOFFSETFROM:-0500
TZOFFSETTO:-0600
TZNAME:CST
DTSTART:20261101T070000
END:STANDARD
END:VTIMEZONE
BEGIN:VEVENT
DTSTART;VALUE=DATE:20251017
DTEND;VALUE=DATE:20251020
DTSTAMP:20260422T154510
CREATED:20250820T212907Z
LAST-MODIFIED:20251007T033339Z
UID:3257-1760659200-1760918399@pack751richardson.com
SUMMARY:AOL Trail to Troop at Camp Wisdom
DESCRIPTION:Trail to Troop (formally known as Webelos Woods) is an event for all Arrow of Light dens (5th grade) to come enjoy the hands-on experiences and outdoor fun of Scouting. \nTrail to Troop is a campout to help with the transition to Scouting America Troops.  There will be Archery\, BBs\, and several activities hosted by members of Scout Troops and the Order of the Arrow.  We will camp with Troop 444. \nEvent Details \n\nDate: October 17-19\, 2025\nCheck-in: Friday\, October 17 at 6–9 PM\nLocation: Camp Wisdom\, 6400 W. Red Bird Ln.\, Dallas\, TX\nRegistration Closes: Friday\, October 10 at 11:00 p.m.\nThis is the deadline to register\, make changes\, and complete payment. No late additions or walk-ins will be accommodated.\n\nCosts \n\nArrow of Light Scouts: $20\nScouts BSA Youth: $20\nAdults: $15\nStaff: $10\nCancellations: Please see the Circle Ten Council Cancellation & Refund Policy (HERE and under Attachments).\n\nInformation Required at Registration \n\nUnit type and number\nFirst and last name\nGender\nCell phone (adults)\nEmail address (adults)\nScout Rank\nAllergies\, dietary needs\, medical concerns\, mobility issues\nEmergency contact name\, cell phone number\, and relationship to attendee\nParent name\, cell phone number\, relationship to attendee (if different from Emergency Contact)\n\nInformation Required at Check-In \n\nUnit Roster\nAnnual Medical Health Forms parts A &B
URL:https://pack751richardson.com/calendar-single-post-name/trail-to-troop-at-camp-wisdom/
LOCATION:Camp Wisdom\, 6400 W Red Bird Ln.\, Dallas\, TX\, 75236\, United States
END:VEVENT
BEGIN:VEVENT
DTSTART;VALUE=DATE:20251018
DTEND;VALUE=DATE:20251019
DTSTAMP:20260422T154510
CREATED:20250830T221313Z
LAST-MODIFIED:20250901T225047Z
UID:3316-1760745600-1760831999@pack751richardson.com
SUMMARY:Popcorn Sales Storefront Slots available 10am–4pm
DESCRIPTION:Popcorn Sales \n  \nPack 751 Richardson participates in popcorn sales for some great reasons. It’s a major fundraiser that earns money for fun Pack activities\, like Pinewood Derby. \nPopcorn sales are also a great way to teach our boys and girls important life skills. Succeeding takes organization\, time management\, self-confidence\, math\, goal-setting\, and persuasive skills\, to name a few! While it is voluntary\, we encourage each scout to sign up for at least 2 hours of their time during our pre-selected storefront timeslots at local retailers. \n  \nSelling Popcorn Is Fun \nIn 2023\, Pack 751 Richardson popcorn sales kick off in late August and go through October. Scouts can sell popcorn through storefront shifts\, door-to-door wagon sales\, or online. \nTo participate\, create an account at Trail’s End\, our fundraising partner. In Trail’s End\, Scouts and parents can set sales goals\, sign up for storefront shifts\, share links to buy\, track sales and deliveries\, send thank you emails\, and more. \nScouts earn points towards an Amazon or other gift cards when they record their sales in the Trail’s End App. They choose the prize they want and points add up fast. \nWe will have a kick-off discussion at our Pack social on September 19th. \n 
URL:https://pack751richardson.com/calendar-single-post-name/popcorn-sales-storefront-slots-available-12/
LOCATION:Walgreens – 2140 E. Campbell Rd.\, 2140 E. Campbell Rd.\, Richardson\, TX\, 75081\, United States
END:VEVENT
BEGIN:VEVENT
DTSTART;VALUE=DATE:20251018
DTEND;VALUE=DATE:20251019
DTSTAMP:20260422T154510
CREATED:20250826T144103Z
LAST-MODIFIED:20250826T144103Z
UID:3273-1760745600-1760831999@pack751richardson.com
SUMMARY:Camp Wisdom Cub Fun Day - Optional Cub Event
DESCRIPTION:Join the excitement of Cub Scouting at Camp Wisdom’s Cub Fun Day!\nHosted by Soaring Eagle\, Southern Star\, and Western Horizon districts\nParticipant Type: Cub Scouts \n-No Walk-Ins- \n  \nEvent Details: \n\nLocation: Camp Wisdom\, 6400 W. Red Bird Ln.\, Dallas\, TX 75236\nDate: Saturday\, October 18th\, 2025\nCheck-in time: 8:30 a.m.\nEvent Time: 9:00 a.m. – 6:00 p.m.\nRegistration closes: Monday\, October 13th\, 2025 at 11:00 p.m. \nLate additions\, substitutions and walk-ins will not be accommodated.\n\nCost: \n\nCub Scout: $20\nSibling: $20\nAdult: $15\nStaff: $10\n\nInformation Required during Registration: \n\nFirst and last name\nUnit\nScouting America Member ID (Cub Scouts)\nDate Youth Protection Training Taken (Adult Staff)\nAllergy\, Dietary and Mobility Restrictions\nEmergency Contact Information\n\nInformation Required at Check-In: \n\nUnit Roster (click HERE for upload instructions)\nAnnual Medical Health Record AB\n\nContacts: \n\nEvent Chairs: Stephanie Evans\, steph_scouting101@yahoo.com & Sarah Simpson\, lana82_03@yahoo.com\nEvent Staff Advisor: Jamel Holmes\, 972.504.3113\nEvent Admin: Skyler McLain\, 214.902.6758\n\nAll cancellations must follow the Refund & Cancellation Policy.
URL:https://pack751richardson.com/calendar-single-post-name/camp-wisdom-cub-fun-day-optional-cub-event/
LOCATION:Camp Wisdom\, 6400 W Red Bird Ln.\, Dallas\, TX\, 75236\, United States
END:VEVENT
END:VCALENDAR