BEGIN:VCALENDAR
VERSION:2.0
PRODID:-//Pack 751 Richardson - ECPv6.15.20//NONSGML v1.0//EN
CALSCALE:GREGORIAN
METHOD:PUBLISH
X-WR-CALNAME:Pack 751 Richardson
X-ORIGINAL-URL:https://pack751richardson.com
X-WR-CALDESC:Events for Pack 751 Richardson
REFRESH-INTERVAL;VALUE=DURATION:PT1H
X-Robots-Tag:noindex
X-PUBLISHED-TTL:PT1H
BEGIN:VTIMEZONE
TZID:America/Chicago
BEGIN:DAYLIGHT
TZOFFSETFROM:-0600
TZOFFSETTO:-0500
TZNAME:CDT
DTSTART:20240310T080000
END:DAYLIGHT
BEGIN:STANDARD
TZOFFSETFROM:-0500
TZOFFSETTO:-0600
TZNAME:CST
DTSTART:20241103T070000
END:STANDARD
BEGIN:DAYLIGHT
TZOFFSETFROM:-0600
TZOFFSETTO:-0500
TZNAME:CDT
DTSTART:20250309T080000
END:DAYLIGHT
BEGIN:STANDARD
TZOFFSETFROM:-0500
TZOFFSETTO:-0600
TZNAME:CST
DTSTART:20251102T070000
END:STANDARD
BEGIN:DAYLIGHT
TZOFFSETFROM:-0600
TZOFFSETTO:-0500
TZNAME:CDT
DTSTART:20260308T080000
END:DAYLIGHT
BEGIN:STANDARD
TZOFFSETFROM:-0500
TZOFFSETTO:-0600
TZNAME:CST
DTSTART:20261101T070000
END:STANDARD
END:VTIMEZONE
BEGIN:VEVENT
DTSTART;VALUE=DATE:20251003
DTEND;VALUE=DATE:20251005
DTSTAMP:20260422T154334
CREATED:20250810T190234Z
LAST-MODIFIED:20250810T190234Z
UID:3220-1759449600-1759622399@pack751richardson.com
SUMMARY:BALOO and IOLS Training
DESCRIPTION:Adult Training \nBasic Adult Leader Outdoor Orientation (BALOO) is an overnight training event that introduces parents and leaders to the skills needed to plan and conduct Pack outdoor activities\, particularly Pack camping.  The training includes campsite selection\, outdoor event planning\, parent involvement\, health & safety\, equipment\, cooking\, and an introduction to camping skills. \nAll Packs are required to have a minimum of one (more recommended) BALOO-trained leader for any and all overnight events. \nOnline BALOO Prerequisite Training on my.scouting.org is required prior to attending course. Please bring proof of completion. \n\nCost: $40\nCheck-in: Friday\, October 3 at 6:00 p.m.\nCheck-out: Saturday\, October 4 at 6:00 p.m.\n\nIntroduction to Outdoor Leader Skills (IOLS) provides adult leaders the practical outdoor skills they need to lead Scouts in the out-of-doors. Participants will works as Patrols at this hands-on training. Upon completion\, leaders should feel comfortable teaching Scouts the basic skills required to obtain the First Class rank. All Troops are required to have IOLS trained leaders and all SM/ASMs are required to have it to be fully trained. \n\nCost: $40\nCheck-in: Friday\, October 3 at 6:00 p.m.\nCheck-out: Saturday\, October 4 at 6:00 p.m.\n\nIOLS Orientation is required for all participants and will be held online via Zoom at  Sunday 9/28/2025 at 7:00 p.m. Zoom link will be provided after registration. \nImportant Information \nLocation: Trevor Rees-Jones Scout Camp\, 11217 FM 2970\, Athens\, Texas 75751 \nCancellation Policy: All cancellations must follow the Cancellation & Refund Policy (see Attachments). \nRegistration Closes: Sunday\, September 28\, at 11:00 p.m.\nThis is the deadline to register\, add/change participants\, update participant information\, and complete payment in full. Your registration and payment must be completed in full prior to this date and time to confirm your space in your training. \nRequired Information\nThe following information will be requested during registration: \n\nFirst and Last Name\nAllergy\, Medical\, or Dietary Restrictions\nEmergency Contact Name and Cell Number\n\nDocumentation Required at Check-in \n\nAnnual Medical Health Record AB\nBALOO only: BALOO Prerequisite training certificate\n\nContacts \n\nStaff Advisor: Frank Griffin\nVolunteer Chair: Lynn Wicker\nRegistration Assistance: Krystal Schwass
URL:https://pack751richardson.com/calendar-single-post-name/baloo-and-iols-training/
LOCATION:Trevor Rees-Jones Scout Camp\, BSA Trevor Rees-Jones Scout Camp\, Camp Trevor Rees - Jones\, Athens\, TX\, 75751\, United States
END:VEVENT
BEGIN:VEVENT
DTSTART;VALUE=DATE:20251004
DTEND;VALUE=DATE:20251005
DTSTAMP:20260422T154334
CREATED:20250830T221029Z
LAST-MODIFIED:20250901T225703Z
UID:3307-1759536000-1759622399@pack751richardson.com
SUMMARY:Popcorn Sales Storefront Slots available 10am–6pm
DESCRIPTION:Popcorn Sales \nPack 751 Richardson participates in popcorn sales for some great reasons. It’s a major fundraiser that earns money for fun Pack activities\, like Pinewood Derby. \nPopcorn sales are also a great way to teach our boys and girls important life skills. Succeeding takes organization\, time management\, self-confidence\, math\, goal-setting\, and persuasive skills\, to name a few! While it is voluntary\, we encourage each scout to sign up for at least 2 hours of their time during our pre-selected storefront timeslots at local retailers. \n  \nSelling Popcorn Is Fun \nIn 2023\, Pack 751 Richardson popcorn sales kick off in late August and go through October. Scouts can sell popcorn through storefront shifts\, door-to-door wagon sales\, or online. \nTo participate\, create an account at Trail’s End\, our fundraising partner. In Trail’s End\, Scouts and parents can set sales goals\, sign up for storefront shifts\, share links to buy\, track sales and deliveries\, send thank you emails\, and more. \nScouts earn points towards an Amazon or other gift cards when they record their sales in the Trail’s End App. They choose the prize they want and points add up fast. \nWe will have a kick-off discussion at our Pack social on September 19th. \n 
URL:https://pack751richardson.com/calendar-single-post-name/popcorn-sales-storefront-slots-available-8/
LOCATION:Walgreens – 2140 E. Campbell Rd.\, 2140 E. Campbell Rd.\, Richardson\, TX\, 75081\, United States
END:VEVENT
BEGIN:VEVENT
DTSTART;TZID=America/Chicago:20251004T130000
DTEND;TZID=America/Chicago:20251004T170000
DTSTAMP:20260422T154334
CREATED:20250826T142510Z
LAST-MODIFIED:20250915T001155Z
UID:3268-1759582800-1759597200@pack751richardson.com
SUMMARY:Cub Leader day of training
DESCRIPTION:This half-day of training will provide the new “trained” leader program for Cubmaster/ Asst. Cubmaster\, Committee Chair and Den Leader/ Asst Den Leader. There is also a session for a New Member Coordinator. Along with the training sessions\, everyone will participate in a symposium on relevant Cub Scout topics. Adult leaders will earn their “trained” patch. This is a great opportunity for any leader that has not done their on-line training\, or current leaders desiring a refresher course. \nEvent Information: \n\nCheck-in: 12:30 p.m. – 12:50 p.m.\nSessions: 1:00 p.m. – 5:00 p.m.\nNote: Childcare is not available. Due to space limitations and the nature of the training\, we cannot accommodate any children in the sessions.\nSnacks will be provided.\n\nOctober 4 Session:\n\n\nLocation: First United Methodist Church\, 503 N. Central Expressway\, Richardson\, TX 75080\nRegistration Deadline: Monday\, September 29\,at 11:00 p.m.\nRegister by Monday\, September 22\, to guarantee your patch/cord at the training day.\n\nCost: \n\nAdult Participants: $15 (includes insurance\, training supplies\, snacks\, and training patches)\nStaff: $7.50\nCancellation Policy: All attendees must follow the Refund & Cancellation Policy (HERE).\n\nTracks: Select one \n\nTrack 1: Cubmaster and Asst. Cubmaster\nTrack 2: Committee Chair / Committee member\nTrack 3: Den Leader and Asst. Den Leader\nTrack 4: New Member Coordinator (not a trained-specific position)\n\nContacts: \n\nEvent Chair: Becca Bradley: goteeu@gmail.com\, 504-957-8969\nStaff Advisor: Katherine McCrary\, Katherine.McCrary@scouting.org\, 214-616-6923\nRegistration Assistance (April ): Paula Bramble\, paula.bramble@scouting.org\, 214-902-6707\nRegistration Assistance (October): Skyler McLain\, Skyler.McLain@scouting.org\, 214-902-6758
URL:https://pack751richardson.com/calendar-single-post-name/cub-leader-day-of-training/
LOCATION:FUMC Richardson (room TBD)\, 503 N Central Expy\, Richardson\, TX\, 75080\, United States
END:VEVENT
END:VCALENDAR