BEGIN:VCALENDAR
VERSION:2.0
PRODID:-//Pack 751 Richardson - ECPv6.15.20//NONSGML v1.0//EN
CALSCALE:GREGORIAN
METHOD:PUBLISH
X-WR-CALNAME:Pack 751 Richardson
X-ORIGINAL-URL:https://pack751richardson.com
X-WR-CALDESC:Events for Pack 751 Richardson
REFRESH-INTERVAL;VALUE=DURATION:PT1H
X-Robots-Tag:noindex
X-PUBLISHED-TTL:PT1H
BEGIN:VTIMEZONE
TZID:America/Chicago
BEGIN:DAYLIGHT
TZOFFSETFROM:-0600
TZOFFSETTO:-0500
TZNAME:CDT
DTSTART:20240310T080000
END:DAYLIGHT
BEGIN:STANDARD
TZOFFSETFROM:-0500
TZOFFSETTO:-0600
TZNAME:CST
DTSTART:20241103T070000
END:STANDARD
BEGIN:DAYLIGHT
TZOFFSETFROM:-0600
TZOFFSETTO:-0500
TZNAME:CDT
DTSTART:20250309T080000
END:DAYLIGHT
BEGIN:STANDARD
TZOFFSETFROM:-0500
TZOFFSETTO:-0600
TZNAME:CST
DTSTART:20251102T070000
END:STANDARD
BEGIN:DAYLIGHT
TZOFFSETFROM:-0600
TZOFFSETTO:-0500
TZNAME:CDT
DTSTART:20260308T080000
END:DAYLIGHT
BEGIN:STANDARD
TZOFFSETFROM:-0500
TZOFFSETTO:-0600
TZNAME:CST
DTSTART:20261101T070000
END:STANDARD
END:VTIMEZONE
BEGIN:VEVENT
DTSTART;VALUE=DATE:20251003
DTEND;VALUE=DATE:20251005
DTSTAMP:20260422T154327
CREATED:20250810T190234Z
LAST-MODIFIED:20250810T190234Z
UID:3220-1759449600-1759622399@pack751richardson.com
SUMMARY:BALOO and IOLS Training
DESCRIPTION:Adult Training \nBasic Adult Leader Outdoor Orientation (BALOO) is an overnight training event that introduces parents and leaders to the skills needed to plan and conduct Pack outdoor activities\, particularly Pack camping.  The training includes campsite selection\, outdoor event planning\, parent involvement\, health & safety\, equipment\, cooking\, and an introduction to camping skills. \nAll Packs are required to have a minimum of one (more recommended) BALOO-trained leader for any and all overnight events. \nOnline BALOO Prerequisite Training on my.scouting.org is required prior to attending course. Please bring proof of completion. \n\nCost: $40\nCheck-in: Friday\, October 3 at 6:00 p.m.\nCheck-out: Saturday\, October 4 at 6:00 p.m.\n\nIntroduction to Outdoor Leader Skills (IOLS) provides adult leaders the practical outdoor skills they need to lead Scouts in the out-of-doors. Participants will works as Patrols at this hands-on training. Upon completion\, leaders should feel comfortable teaching Scouts the basic skills required to obtain the First Class rank. All Troops are required to have IOLS trained leaders and all SM/ASMs are required to have it to be fully trained. \n\nCost: $40\nCheck-in: Friday\, October 3 at 6:00 p.m.\nCheck-out: Saturday\, October 4 at 6:00 p.m.\n\nIOLS Orientation is required for all participants and will be held online via Zoom at  Sunday 9/28/2025 at 7:00 p.m. Zoom link will be provided after registration. \nImportant Information \nLocation: Trevor Rees-Jones Scout Camp\, 11217 FM 2970\, Athens\, Texas 75751 \nCancellation Policy: All cancellations must follow the Cancellation & Refund Policy (see Attachments). \nRegistration Closes: Sunday\, September 28\, at 11:00 p.m.\nThis is the deadline to register\, add/change participants\, update participant information\, and complete payment in full. Your registration and payment must be completed in full prior to this date and time to confirm your space in your training. \nRequired Information\nThe following information will be requested during registration: \n\nFirst and Last Name\nAllergy\, Medical\, or Dietary Restrictions\nEmergency Contact Name and Cell Number\n\nDocumentation Required at Check-in \n\nAnnual Medical Health Record AB\nBALOO only: BALOO Prerequisite training certificate\n\nContacts \n\nStaff Advisor: Frank Griffin\nVolunteer Chair: Lynn Wicker\nRegistration Assistance: Krystal Schwass
URL:https://pack751richardson.com/calendar-single-post-name/baloo-and-iols-training/
LOCATION:Trevor Rees-Jones Scout Camp\, BSA Trevor Rees-Jones Scout Camp\, Camp Trevor Rees - Jones\, Athens\, TX\, 75751\, United States
END:VEVENT
END:VCALENDAR