BEGIN:VCALENDAR
VERSION:2.0
PRODID:-//Pack 751 Richardson - ECPv6.15.20//NONSGML v1.0//EN
CALSCALE:GREGORIAN
METHOD:PUBLISH
X-WR-CALNAME:Pack 751 Richardson
X-ORIGINAL-URL:https://pack751richardson.com
X-WR-CALDESC:Events for Pack 751 Richardson
REFRESH-INTERVAL;VALUE=DURATION:PT1H
X-Robots-Tag:noindex
X-PUBLISHED-TTL:PT1H
BEGIN:VTIMEZONE
TZID:America/Chicago
BEGIN:DAYLIGHT
TZOFFSETFROM:-0600
TZOFFSETTO:-0500
TZNAME:CDT
DTSTART:20240310T080000
END:DAYLIGHT
BEGIN:STANDARD
TZOFFSETFROM:-0500
TZOFFSETTO:-0600
TZNAME:CST
DTSTART:20241103T070000
END:STANDARD
BEGIN:DAYLIGHT
TZOFFSETFROM:-0600
TZOFFSETTO:-0500
TZNAME:CDT
DTSTART:20250309T080000
END:DAYLIGHT
BEGIN:STANDARD
TZOFFSETFROM:-0500
TZOFFSETTO:-0600
TZNAME:CST
DTSTART:20251102T070000
END:STANDARD
BEGIN:DAYLIGHT
TZOFFSETFROM:-0600
TZOFFSETTO:-0500
TZNAME:CDT
DTSTART:20260308T080000
END:DAYLIGHT
BEGIN:STANDARD
TZOFFSETFROM:-0500
TZOFFSETTO:-0600
TZNAME:CST
DTSTART:20261101T070000
END:STANDARD
END:VTIMEZONE
BEGIN:VEVENT
DTSTART;TZID=America/Chicago:20250916T190000
DTEND;TZID=America/Chicago:20250916T200000
DTSTAMP:20260422T170408
CREATED:20250810T181646Z
LAST-MODIFIED:20250916T012701Z
UID:3210-1758049200-1758052800@pack751richardson.com
SUMMARY:Parent Committee Meeting (In Person)
DESCRIPTION:Parent Committee meetings should be attended by all parents that can make it\, especially if you are serving in any volunteer capacity.  This will be in FUMCR room 217B
URL:https://pack751richardson.com/calendar-single-post-name/parent-committee-meeting-in-person/
LOCATION:FUMCR Ed-Room 217B\, 503 N Central Exp\, Richardson\, TX\, 75080\, United States
END:VEVENT
END:VCALENDAR